BEGIN:VCALENDAR
VERSION:2.0
PRODID:-//wp-events-plugin.com//7.2.3.1//EN
TZID:Europe/Berlin
X-WR-TIMEZONE:Europe/Berlin
BEGIN:VEVENT
UID:2558@stadtmarketing-nortorf.de
DTSTART;TZID=Europe/Berlin:20260522T100000
DTEND;TZID=Europe/Berlin:20260522T200000
DTSTAMP:20260421T093839Z
URL:https://stadtmarketing-nortorf.de/veranstaltungen/1-allrid-e-gravel-ex
 perience-day/
SUMMARY:1. allrid-E Gravel Experience Day
DESCRIPTION:Werde Teil der jungen Gravel-Community von allrid-E!\n\nAm Frei
 tag\, 22. Mai\, wird unser Store zum Treffpunkt für alle Gravel-Fans und 
 die\, die es noch werden wollen. Wir sind den ganzen Tag ab 10 Uhr für Eu
 ch auf Gravel eingestellt\, und ab 15 Uhr erwartet Euch zusätzlich ein to
 lles Gravelprogramm:\nDen Auftakt macht um 15 Uhr Mirka von Comfytters Kie
 l mit einem Vortrag rund ums professionelle Bikefitting. Danach erwarten e
 uch unter anderem eine Bikepacking-Station\, Themen zu Navigation\, Gravel
 technik und Indoor-Training sowie unsere Gravelexperten für alle Fragen\,
  die etwas tiefer ins Detail gehen.\n\nAb 17 Uhr könnt Ihr mit uns auf 30
 -minütige Gravel-Touren gehen\, ab 19 Uhr wird beim Gravelreise-Talk noch
 mal gemeinsam über Erfahrungen\, Ziele und Abenteuer gesprochen. Für Com
 munity-Momente\, Würstchen und Softdrinks ist natürlich auch gesorgt.\nK
 urz gesagt: ein Nachmittag für alle\, die Gravel nicht nur fahren\, sonde
 rn erleben wollen.\n\nWir freuen uns auf einen Tag voller Input\, Austausc
 h und echter Gravel-Leidenschaft.\n\nMeldet Euch bequem über den QR Code 
 oder folgenden Link an: Moin!\nDort gibt es auch mehr Infos zum Programmab
 lauf!\n\nRide on!
ATTACH;FMTTYPE=image/jpeg:https://stadtmarketing-nortorf.de/wp-content/upl
 oads/2022/09/va-allride-1.jpg
CATEGORIES:Sport &amp; Bewegung
END:VEVENT
BEGIN:VTIMEZONE
TZID:Europe/Berlin
X-LIC-LOCATION:Europe/Berlin
BEGIN:DAYLIGHT
DTSTART:20260329T030000
TZOFFSETFROM:+0100
TZOFFSETTO:+0200
TZNAME:CEST
END:DAYLIGHT
END:VTIMEZONE
END:VCALENDAR