BEGIN:VCALENDAR
VERSION:2.0
PRODID:-//wp-events-plugin.com//7.2.3.1//EN
TZID:Europe/Berlin
X-WR-TIMEZONE:Europe/Berlin
BEGIN:VEVENT
UID:2403@stadtmarketing-nortorf.de
DTSTART;TZID=Europe/Berlin:20260518T110000
DTEND;TZID=Europe/Berlin:20260518T180000
DTSTAMP:20260203T103340Z
URL:https://stadtmarketing-nortorf.de/veranstaltungen/21-gnutzer-museumsta
 g/
SUMMARY:21. Gnutzer Museumstag
DESCRIPTION:Liebe Museumsfreunde!\nam 18. Mai 2025 von 11 bis 18 Uhr feie
 rn wir das 21. Museumsfest!\nWie immer werden viele Vorführungen alter 
 Handwerkskünste Groß und Klein überraschen. Dabei sind alte Geräte un
 d altes Handwerk nicht nur zum Anschauen da. Mitmachen und ausprobieren 
 sind angesagt. Ein Museumstag zum Anfassen mit vielen Demonstrationen: Usc
 hi spinnt (Wolle)\, Karl macht Seile\, Marion klöppelt\, Stefan führt al
 te Radios vor\, Hans R. hat Sprudelsteine und die Drescher aus Schwesing-O
 lderup dreschen.\nBegleitet wird das Fest musikalisch von Astrid &amp\; Mi
 chael und einem Museumsflohmarkt sowie einer Sonderausstellung zur repa
 rierten Dingen.\nFür leckere Verpflegung sorgen de Swatten Gnutzer.\nVor 
 einem integralen Bestandteil eines jeden Museumsfestes in Gnutz sei jedoch
  gewarnt: Um 14.30 Uhr wird Karl von Puttkamer seinen wissenschaftlich
  umfassenden wie um neueste Erkenntnisse der Forschung erweiterten  Maus
 efallenvortrag halten. Das ist nichts für schwache Nerven. Wer sich einf
 ühlen möchte\, schaut das nachfolgende Video vergangener Tage (ein Film 
 von Helmut-J. Böttche). Und wer eine Idee des Museumsfestes erlangen möc
 hte\, schaut dann noch das nachfolgende Video (des nämlichen Autors) übe
 r das Fest des Museums  in 2018.\nWir freuen uns auf Euren Besuch\nKarl v
 on Puttkamer und Uschi Kirchheimer\nP.S.: Bitte keine Hunde!
CATEGORIES:Ausstellungen,Bildung,Bürgerangebote &amp;
 Soziales,Kulinarik,Museum,Vorträge &amp; Diskussionsrunden
LOCATION:Museum Gnutz\, De ohle Weg 18\, Gnutz\, 24622\, Deutschland
X-APPLE-STRUCTURED-LOCATION;VALUE=URI;X-ADDRESS=De ohle Weg 18\, Gnutz\, 24
 622\, Deutschland;X-APPLE-RADIUS=100;X-TITLE=Museum Gnutz:geo:0,0
END:VEVENT
BEGIN:VTIMEZONE
TZID:Europe/Berlin
X-LIC-LOCATION:Europe/Berlin
BEGIN:DAYLIGHT
DTSTART:20260329T030000
TZOFFSETFROM:+0100
TZOFFSETTO:+0200
TZNAME:CEST
END:DAYLIGHT
END:VTIMEZONE
END:VCALENDAR