BEGIN:VCALENDAR
VERSION:2.0
PRODID:-//wp-events-plugin.com//7.2.3.1//EN
TZID:Europe/Berlin
X-WR-TIMEZONE:Europe/Berlin
BEGIN:VEVENT
UID:2540@stadtmarketing-nortorf.de
DTSTART;TZID=Europe/Berlin:20260531T100000
DTEND;TZID=Europe/Berlin:20260531T160000
DTSTAMP:20260310T105509Z
URL:https://stadtmarketing-nortorf.de/veranstaltungen/3-strassenflohmarkt/
SUMMARY:3. Strassenflohmarkt
DESCRIPTION:An alle Anwohner im Heinkenborsteler Weg\, Gartenstrasse\, Am K
 amp\, Tannenweg und Kronkamp\,\n\nDas Frühjahr ist die Zeit zum Aufräume
 n und Aussortieren. Aber Haushaltsgegenstände\, Kleidung\, Spielzeug\, B
 ücher\, oder andere alte Schätze sind zu schade zum Wegwerfen?\n\nDann i
 st wieder Flohmarktzeit. Machen Sie mit beim 3. Straßenflohmarkt im Heink
 enborsteler Weg\, Gartenstrasse\, Am Kamp\, Tannenweg und Kronkamp.\n\nSon
 ntag\, 31. Mai 2026 von 10 bis 16 Uhr\n\nDas Team der Kramer-Scheune organ
 isiert wieder diese Veranstaltung und freut sich auf Ihre Anmeldungen mit 
 Name\, Anschrift\, Telefon und Mailadresse unter info@kramer-scheune.de bi
 s spätestens 10. Mai 2026.\n\nWir erstellen danach einen Lageplan\, auf d
 em alle Grundstücke markiert sind\, die sich beteiligen und stellen diese
 n online. Dann haben es Besucher leichter\, Sie zu finden. Gerne können S
 ie ihre Stände an der Straße mit bunten Luftballons markieren.\nDie Verk
 aufsstände dürfen ausschließlich auf Privatgrundstücken aufgebaut werd
 en. Öffentliche Bereiche wie Gehwege sind tabu! Es darf keine Neuware ver
 kauft werden und auch gewerbliche Flohmarkthändler sind nicht zugelassen.
  Für Speis und Trank wird seitens der Kramer-Scheune gesorgt. Und natürl
 ich ist die Teilnahme am Straßenflohmarkt kostenfrei.\n\nNeu: Wer etwas 
 „abseits“ wohnt und beim letzten Mal unter Besuchermangel litt\, darf 
 sich gerne mit einem Stand auf dem Hof der Kramer-Scheune präsentieren. B
 itte nicht breiter als ca. drei Meter (Tapeziertischgröße). Standgebühr
  = ein Kuchen.\n\nGemeinsam mit Ihnen freuen wir uns wieder auf ein tolles
  und belebendes Ereignis für unsere Nachbarschaft. Egal ob zum Verkaufen\
 , zum Kaufen oder um einfach mit Nachbarn in netter Atmosphäre in Austaus
 ch zu treten – machen Sie mit und melden sich schon jetzt an. Nach „Fe
 ierabend“ treffen wir uns gerne wieder zum Erfrischungsgetränk bei uns 
 auf dem Hof.\n\nHaben Sie Fragen? Unter 0177-2745486 stehen wir Ihnen gern
 e zur Verfügung.\n\nEs grüßen herzlich\n\nRenate &amp\; Holger Bauer\nw
 ww.Kramer-Scheune.de
ATTACH;FMTTYPE=image/jpeg:https://stadtmarketing-nortorf.de/wp-content/upl
 oads/2022/09/va-kramerscheune.jpg
CATEGORIES:Märkte
LOCATION:Kramer-Scheune\, Heinkenborstelerweg 8\, Nortorf\, 24589\, Deutsch
 land
GEO:54.164672;9.846506
X-APPLE-STRUCTURED-LOCATION;VALUE=URI;X-ADDRESS=Heinkenborstelerweg 8\, Nor
 torf\, 24589\, Deutschland;X-APPLE-RADIUS=100;X-TITLE=Kramer-Scheune:geo:5
 4.164672,9.846506
END:VEVENT
BEGIN:VTIMEZONE
TZID:Europe/Berlin
X-LIC-LOCATION:Europe/Berlin
BEGIN:DAYLIGHT
DTSTART:20260329T030000
TZOFFSETFROM:+0100
TZOFFSETTO:+0200
TZNAME:CEST
END:DAYLIGHT
END:VTIMEZONE
END:VCALENDAR