BEGIN:VCALENDAR
VERSION:2.0
PRODID:-//wp-events-plugin.com//7.2.3.1//EN
TZID:Europe/Berlin
X-WR-TIMEZONE:Europe/Berlin
BEGIN:VEVENT
UID:2430@stadtmarketing-nortorf.de
DTSTART;TZID=Europe/Berlin:20260315T110000
DTEND;TZID=Europe/Berlin:20260315T123000
DTSTAMP:20260219T120427Z
URL:https://stadtmarketing-nortorf.de/veranstaltungen/arche-warder-familie
 nfuehrung-im-maerz/
SUMMARY:Arche Warder Familienführung im März
DESCRIPTION:Am Sonntag\, 15.März 2026 findet von 11 bis 12.30 Uhr eine Fam
 ilienführung unter dem Motto “Tierisch gute Fragen – dem rätselhafte
 n Tierreich auf den Zahn gefühlt” statt.\n\nManchmal stellen Kinder gan
 z besondere Fragen – Fragen\, auf die selbst Erwachsene keine sofortige 
 Antwort wissen. Warum spucken Lamas und Alpakas eigentlich? Müssen Wölfe
  ihre Zähne putzen? Warum können manche Tiere im Stehen schlafen\, ohne 
 einfach umzufallen? Und ist das Blut von Kaltblütern wirklich kalt? Bei e
 inem gemeinsamen Rundgang durch den Tierpark gehen wir diesen und vielen w
 eiteren spannenden Fragen auf den Grund. Wir kommen den Tieren ganz nah\, 
 lernen ihre besonderen Fähigkeiten kennen und erfahren\, warum die Natur 
 oft ganz anders funktioniert\, als wir es uns vielleicht denken.\n\nFür d
 ie Führung muss lediglich eine Eintrittskarte erworben werden.\n\nBitte a
 nmelden unter der Email: spitzmann-fink@arche-warder.de
ATTACH;FMTTYPE=image/jpeg:https://stadtmarketing-nortorf.de/wp-content/upl
 oads/2025/02/va-arche-warder.jpg
CATEGORIES:Sonstiges
LOCATION:Arche Warder\, Langwedeler Weg 11\, Warder\, 24646\, Deutschland
X-APPLE-STRUCTURED-LOCATION;VALUE=URI;X-ADDRESS=Langwedeler Weg 11\, Warder
 \, 24646\, Deutschland;X-APPLE-RADIUS=100;X-TITLE=Arche Warder:geo:0,0
END:VEVENT
BEGIN:VTIMEZONE
TZID:Europe/Berlin
X-LIC-LOCATION:Europe/Berlin
BEGIN:STANDARD
DTSTART:20251026T020000
TZOFFSETFROM:+0200
TZOFFSETTO:+0100
TZNAME:CET
END:STANDARD
END:VTIMEZONE
END:VCALENDAR