BEGIN:VCALENDAR
VERSION:2.0
PRODID:-//wp-events-plugin.com//7.2.3.1//EN
TZID:Europe/Berlin
X-WR-TIMEZONE:Europe/Berlin
BEGIN:VEVENT
UID:2433@stadtmarketing-nortorf.de
DTSTART;TZID=Europe/Berlin:20260410T140000
DTEND;TZID=Europe/Berlin:20260410T153000
DTSTAMP:20260219T121314Z
URL:https://stadtmarketing-nortorf.de/veranstaltungen/arche-warder-familie
 nfuehrung-in-den-osterferien/
SUMMARY:Arche Warder Familienführung in den Osterferien
DESCRIPTION:Am Freitag\, 10.April 2026 findet von 14 bis 15.30 Uhr eine Fam
 ilienführung unter dem Motto “Tierisch gute Fragen – dem rätselhafte
 n Tierreich auf den Zahn gefühlt” statt.\n\nManchmal stellen Kinder gan
 z besondere Fragen – Fragen\, auf die selbst Erwachsene keine sofortige 
 Antwort wissen. Warum spucken Lamas und Alpakas eigentlich? Müssen Wölfe
  ihre Zähne putzen? Warum können manche Tiere im Stehen schlafen\, ohne 
 einfach umzufallen? Und ist das Blut von Kaltblütern wirklich kalt? Bei e
 inem gemeinsamen Rundgang durch den Tierpark gehen wir diesen und vielen w
 eiteren spannenden Fragen auf den Grund. Wir kommen den Tieren ganz nah\, 
 lernen ihre besonderen Fähigkeiten kennen und erfahren\, warum die Natur 
 oft ganz anders funktioniert\, als wir es uns vielleicht denken.\n\nFür d
 ie Führung muss lediglich eine Eintrittskarte erworben werden.\n\nBitte a
 nmelden unter der Email: spitzmann-fink@arche-warder.de
ATTACH;FMTTYPE=image/jpeg:https://stadtmarketing-nortorf.de/wp-content/upl
 oads/2025/02/va-arche-warder.jpg
CATEGORIES:Kinder,Rundgänge &amp; Fahrten
LOCATION:Tierpark Arche Warder\, Langwedeler Weg 11\, Warder\, Schleswig-Ho
 lstein\, 24646\, Deutschland
X-APPLE-STRUCTURED-LOCATION;VALUE=URI;X-ADDRESS=Langwedeler Weg 11\, Warder
 \, Schleswig-Holstein\, 24646\, Deutschland;X-APPLE-RADIUS=100;X-TITLE=Tie
 rpark Arche Warder:geo:0,0
END:VEVENT
BEGIN:VTIMEZONE
TZID:Europe/Berlin
X-LIC-LOCATION:Europe/Berlin
BEGIN:DAYLIGHT
DTSTART:20260329T030000
TZOFFSETFROM:+0100
TZOFFSETTO:+0200
TZNAME:CEST
END:DAYLIGHT
END:VTIMEZONE
END:VCALENDAR