BEGIN:VCALENDAR
VERSION:2.0
PRODID:-//wp-events-plugin.com//7.2.3.1//EN
TZID:Europe/Berlin
X-WR-TIMEZONE:Europe/Berlin
BEGIN:VEVENT
UID:2176@stadtmarketing-nortorf.de
DTSTART;TZID=Europe/Berlin:20250915T000000
DTEND;TZID=Europe/Berlin:20251017T000000
DTSTAMP:20250918T093213Z
URL:https://stadtmarketing-nortorf.de/veranstaltungen/ausstellung-gegen-re
 chtsextremismus-aufklaerung-auseinandersetzung-aktivwerden/
SUMMARY:Ausstellung gegen Rechtsextremismus: Aufklärung\, Auseinandersetzu
 ng\, Aktivwerden
DESCRIPTION:Die Ausstellung beleuchtet die vielen Gesichter des Rechtsextre
 mismus – vom dahinterliegenden Weltbild bis zu den Methoden\, mit denen 
 extremistische Gruppen gezielt Jugendliche ansprechen. \n\nDie Ausstellung
  lädt dazu ein\, sich mit eigenen Überzeugungen auseinanderzusetzen und 
 ermutigt zu aktivem Engagement gegen Rassismus und Gewalt. Sie zeigt Wege 
 auf\, sich für Demokratie und Menschlichkeit stark zu machen\, denn jede 
 und jeder kann einen Beitrag leisten. Der Erhalt unserer freiheitlichen Ge
 sellschaft lebt von der Haltung und dem Einsatz aller.
ATTACH;FMTTYPE=image/jpeg:https://stadtmarketing-nortorf.de/wp-content/upl
 oads/2023/09/amt-nortorfer-land.jpeg
CATEGORIES:Sonstiges
END:VEVENT
BEGIN:VTIMEZONE
TZID:Europe/Berlin
X-LIC-LOCATION:Europe/Berlin
BEGIN:DAYLIGHT
DTSTART:20250330T030000
TZOFFSETFROM:+0100
TZOFFSETTO:+0200
TZNAME:CEST
END:DAYLIGHT
END:VTIMEZONE
END:VCALENDAR