BEGIN:VCALENDAR
VERSION:2.0
PRODID:-//wp-events-plugin.com//7.2.3.1//EN
TZID:Europe/Berlin
X-WR-TIMEZONE:Europe/Berlin
BEGIN:VEVENT
UID:977@stadtmarketing-nortorf.de
DTSTART;TZID=Europe/Berlin:20230530T160000
DTEND;TZID=Europe/Berlin:20230530T162000
DTSTAMP:20230424T114807Z
URL:https://stadtmarketing-nortorf.de/veranstaltungen/bilderbuchkino-die-g
 eschichte-vom-siebenschlaefer-der-ueberhaupt-keine-angst-im-dunkeln-hatte/
SUMMARY:Bilderbuchkino: Die Geschichte vom Siebenschläfer\, der überhaupt
  keine Angst im Dunkeln hatte
DESCRIPTION:Vorgelesen wird "Die Geschichte vom Siebenschläfer\, der über
 haupt keine Angst im Dunkeln hatte".\n\nDer kleine Siebenschläfer hat bes
 chlossen\, heute Nacht draußen im Freien zu schlafen. Und zwar in seinem 
 Zelt. Angst hat er natürlich überhaupt keine! Aber die Dunkelheit ist do
 ch etwas dunkler\, als er erwartet hat. Zum Glück helfen ihm alte und neu
 e Freunde bei seiner ersten Nacht im Freien...
ATTACH;FMTTYPE=image/jpeg:https://stadtmarketing-nortorf.de/wp-content/upl
 oads/2022/09/va-stadtbuecherei.jpg
CATEGORIES:Kinder,Lesung,Literatur
LOCATION:Stadtbücherei Nortorf\, Niedernstraße 6\, Nortorf\, 24589\, Deut
 schland
GEO:54.170183;9.854546
X-APPLE-STRUCTURED-LOCATION;VALUE=URI;X-ADDRESS=Niedernstraße 6\, Nortorf\
 , 24589\, Deutschland;X-APPLE-RADIUS=100;X-TITLE=Stadtbücherei Nortorf:ge
 o:54.170183,9.854546
END:VEVENT
BEGIN:VTIMEZONE
TZID:Europe/Berlin
X-LIC-LOCATION:Europe/Berlin
BEGIN:DAYLIGHT
DTSTART:20230326T030000
TZOFFSETFROM:+0100
TZOFFSETTO:+0200
TZNAME:CEST
END:DAYLIGHT
END:VTIMEZONE
END:VCALENDAR