BEGIN:VCALENDAR
VERSION:2.0
PRODID:-//wp-events-plugin.com//7.2.3.1//EN
TZID:Europe/Berlin
X-WR-TIMEZONE:Europe/Berlin
BEGIN:VEVENT
UID:2508@stadtmarketing-nortorf.de
DTSTART;TZID=Europe/Berlin:20260316T100000
DTEND;TZID=Europe/Berlin:20260316T120000
DTSTAMP:20260305T094653Z
URL:https://stadtmarketing-nortorf.de/veranstaltungen/demokratie-workout/
SUMMARY:Demokratie-Workout
DESCRIPTION:Wie können wir demokratische Werte im Alltag konkret leben?\nW
 ie gelingt es uns\, respektvoll zu streiten\, aktiv zuzuhören und auch be
 i unterschiedlichen Meinungen im Gespräch zu bleiben?\n\nUnter dem Motto 
 „Stärke deine demokratischen Superkräfte!“ lade ich Euch herzlich zu
  unserem Demokratie-Workout ein.\n\nAnmeldung: bis zum 15.03.2026\,  Iris
  Brücker: bruecker@amt-nortorfer-land.de\n\nIn einem spielerischen und ge
 schützten Rahmen trainieren wir demokratische Kompetenzen\, die im Alltag
  oft herausfordernd sind:\n\n 	aktiv zuhören\n 	Meinungsverschiedenheiten
  konstruktiv gestalten\n\nIn zwei interaktiven 30-minütigen Trainingseinh
 eiten stärken wir jeweils einen von zehn „Demokratie-Muskeln“.\n\nZwe
 i qualifizierte Demokratie-Fitness-Trainer*innen begleiten uns durch das P
 rogramm.\n\nDie Teilnahme ist kostenfrei\,  praxisnah und für alle Perso
 nen geeignet\, unabhängig von Vorwissen oder Funktion. Im Mittelpunkt ste
 ht die Erfahrung:\nDemokratie lebt von uns\, von unserem Mut\, unserer Emp
 athie\, unserer Neugier und der Vielfalt unserer Perspektiven.\n\nZum Absc
 hluss reflektieren wir gemeinsam und sammeln konkrete Impulse für unseren
  beruflichen und gesellschaftlichen Alltag.\n\nWir freuen uns sehr über I
 hre Teilnahme und einen lebendigen Austausch!
ATTACH;FMTTYPE=image/jpeg:https://stadtmarketing-nortorf.de/wp-content/upl
 oads/2023/09/amt-nortorfer-land.jpeg
CATEGORIES:Bürgerangebote &amp; Soziales,Vorträge &amp;
 Diskussionsrunden
LOCATION:Rathaus Nortorf\, Niedernstraße 6\, Nortorf\, 24589\, Deutschland
GEO:54.170183;9.854546
X-APPLE-STRUCTURED-LOCATION;VALUE=URI;X-ADDRESS=Niedernstraße 6\, Nortorf\
 , 24589\, Deutschland;X-APPLE-RADIUS=100;X-TITLE=Rathaus Nortorf:geo:54.17
 0183,9.854546
END:VEVENT
BEGIN:VTIMEZONE
TZID:Europe/Berlin
X-LIC-LOCATION:Europe/Berlin
BEGIN:STANDARD
DTSTART:20251026T020000
TZOFFSETFROM:+0200
TZOFFSETTO:+0100
TZNAME:CET
END:STANDARD
END:VTIMEZONE
END:VCALENDAR