BEGIN:VCALENDAR
VERSION:2.0
PRODID:-//wp-events-plugin.com//7.2.3.1//EN
TZID:Europe/Berlin
X-WR-TIMEZONE:Europe/Berlin
BEGIN:VEVENT
UID:1376@stadtmarketing-nortorf.de
DTSTART;TZID=Europe/Berlin:20241028T100000
DTEND;TZID=Europe/Berlin:20241028T113000
DTSTAMP:20231220T100210Z
URL:https://stadtmarketing-nortorf.de/veranstaltungen/deutschlerntreff-fue
 r-anfaengerinnen-2024-10-28/
SUMMARY:Deutschlerntreff für Anfänger*innen
DESCRIPTION:Wer noch auf einen Platz in einem Deutschkurs wartet oder aus a
 nderen Gründen Zeit und Interesse hat in lockerer Atmosphäre Deutsch zu 
 lernen\, ist hier herzlich willkommen. Mit Händen und Füßen\, Bildern u
 nd Humor können wir uns wunderbar verständigen.\n\nOhne Anmeldung\, Kost
 en und Zertifikate!
ATTACH;FMTTYPE=image/jpeg:https://stadtmarketing-nortorf.de/wp-content/upl
 oads/2022/09/va-alte-muehle-deutschlerntreff.jpg
CATEGORIES:Bildung,Schule &amp; Bildung
LOCATION:Alte Mühle Nortorf\, Hohenwestedter Straße 6\, Nortorf\, 24589 \
 , Deutschland
GEO:54.167322;9.851431
X-APPLE-STRUCTURED-LOCATION;VALUE=URI;X-ADDRESS=Hohenwestedter Straße 6\, 
 Nortorf\, 24589 \, Deutschland;X-APPLE-RADIUS=100;X-TITLE=Alte Mühle Nort
 orf:geo:54.167322,9.851431
END:VEVENT
BEGIN:VTIMEZONE
TZID:Europe/Berlin
X-LIC-LOCATION:Europe/Berlin
BEGIN:STANDARD
DTSTART:20241027T020000
TZOFFSETFROM:+0200
TZOFFSETTO:+0100
TZNAME:CET
END:STANDARD
END:VTIMEZONE
END:VCALENDAR