BEGIN:VCALENDAR
VERSION:2.0
PRODID:-//wp-events-plugin.com//7.2.3.1//EN
TZID:Europe/Berlin
X-WR-TIMEZONE:Europe/Berlin
BEGIN:VEVENT
UID:2559@stadtmarketing-nortorf.de
DTSTART;TZID=Europe/Berlin:20260505T190000
DTEND;TZID=Europe/Berlin:20260505T210000
DTSTAMP:20260421T093508Z
URL:https://stadtmarketing-nortorf.de/veranstaltungen/die-stapelholmer-kom
 men-zur-volksgilde/
SUMMARY:Die STAPELHOLMER kommen zur Volksgilde
DESCRIPTION:Die „Stapelholmer“\, sind zwei erfahrene Musiker\, spielen 
 Keyboard und Gitarre und kommen am Dienstag\, 5. Mai um 19:00 Uhr in den A
 lten Landkrug.\nMit dabei haben sie Liederhefte (mit großer Schrift) und 
 singen mit Ihnen und uns Volkslieder\, Schlager und Stimmungslieder: „Ho
 ch auf dem gelben Wagen“\, „Caprifischer“\, „Rot sind die Rosen un
 d vieles mehr.\nKommen Sie vorbei und singen Sie sich glücklich und gesun
 d!\nDer Volksmund hat Recht\, wenn er behauptet\, dass Lachen förderlich 
 für die Gesundheit ist. Die „Stapelholmer“ bringen uns an diesem Aben
 d mit lustigen Döntjes aus der Region zwischen Eider\, Treene und Sorge g
 arantiert zum Lachen!\nHerzliche Einladung an alle Liddmaaten zu diesem be
 sonderen Abend.. Auch Gäste sind herzlich willkommen!\n\nDer Eintritt ist
  frei! Verzehr ist vor Ort zu zahlen.
CATEGORIES:Sonstiges
LOCATION:Alter Landkrug\, Große Mühlenstraße 13\, Nortorf\, Schleswig-Ho
 lstein\, 24589\, Deutschland
X-APPLE-STRUCTURED-LOCATION;VALUE=URI;X-ADDRESS=Große Mühlenstraße 13\, 
 Nortorf\, Schleswig-Holstein\, 24589\, Deutschland;X-APPLE-RADIUS=100;X-TI
 TLE=Alter Landkrug:geo:0,0
END:VEVENT
BEGIN:VTIMEZONE
TZID:Europe/Berlin
X-LIC-LOCATION:Europe/Berlin
BEGIN:DAYLIGHT
DTSTART:20260329T030000
TZOFFSETFROM:+0100
TZOFFSETTO:+0200
TZNAME:CEST
END:DAYLIGHT
END:VTIMEZONE
END:VCALENDAR