BEGIN:VCALENDAR
VERSION:2.0
PRODID:-//wp-events-plugin.com//7.2.3.1//EN
TZID:Europe/Berlin
X-WR-TIMEZONE:Europe/Berlin
BEGIN:VEVENT
UID:2448@stadtmarketing-nortorf.de
DTSTART;TZID=Europe/Berlin:20260606T200000
DTEND;TZID=Europe/Berlin:20260606T235900
DTSTAMP:20260224T110257Z
URL:https://stadtmarketing-nortorf.de/veranstaltungen/discofox-party/
SUMMARY:Discofox-Party
DESCRIPTION:Wir lassen die Tanzfläche mit Hits der 80er bis heute glühen!
  Kringel\, Schleife\, Brezel\, he goes – she goes\, alles was ihr in der
  Tanzschule gelernt habt\, wollen wir sehen! Baker und Eva sorgen wie imme
 r für euer leibliches Wohl!\n\nEintritt: 10.- €\, Anmeldung erforderlic
 h bis 05. Juni\n\nAnmeldung unter: kultur-am-brahmsee@langwedel-sh.de oder
 \n\ntelefonisch unter 0175-4150564 (bitte erst ab 17 Uhr anrufen).
ATTACH;FMTTYPE=image/jpeg:https://stadtmarketing-nortorf.de/wp-content/upl
 oads/2023/08/va-kultur-brahmsee.jpg
CATEGORIES:Party
LOCATION:Sportheim Langwedel\, Am Sportplatz 1b\, Langwedel\, Schleswig-Hol
 stein\, 24631\, Kreis Rendsburg-Eckernförde\, Deutschland
X-APPLE-STRUCTURED-LOCATION;VALUE=URI;X-ADDRESS=Am Sportplatz 1b\, Langwede
 l\, Schleswig-Holstein\, 24631\, Kreis Rendsburg-Eckernförde\, Deutschlan
 d;X-APPLE-RADIUS=100;X-TITLE=Sportheim Langwedel:geo:0,0
END:VEVENT
BEGIN:VTIMEZONE
TZID:Europe/Berlin
X-LIC-LOCATION:Europe/Berlin
BEGIN:DAYLIGHT
DTSTART:20260329T030000
TZOFFSETFROM:+0100
TZOFFSETTO:+0200
TZNAME:CEST
END:DAYLIGHT
END:VTIMEZONE
END:VCALENDAR