BEGIN:VCALENDAR
VERSION:2.0
PRODID:-//wp-events-plugin.com//7.2.3.1//EN
TZID:Europe/Berlin
X-WR-TIMEZONE:Europe/Berlin
BEGIN:VEVENT
UID:2497@stadtmarketing-nortorf.de
DTSTART;TZID=Europe/Berlin:20260519T073000
DTEND;TZID=Europe/Berlin:20260519T193000
DTSTAMP:20260304T094024Z
URL:https://stadtmarketing-nortorf.de/veranstaltungen/ein-schoener-tag-in-
 lueneburg/
SUMMARY:Ein schöner Tag in Lüneburg
DESCRIPTION:Der LandFrauenVerein Nortorfer Land fährt mit Möllers Reisedi
 enst nach Lüneburg. Nach einer Klosterbesichtigung gibt es ein gemeinsame
 s Mittagessen\, anschließend gibt es eine Stadtführung und freien Zeit f
 ür einen Bummel.\n\nAbfahrt vom ZOB/Nortorf\n\nAnmeldungen bitte bis zum 
 14.04.26 bei Anke Jargstorf oder über die Ortsvertrauensfrauen.\n\nNoch g
 ibt es freie Plätze\, Gäste sind herzlich willkommen. Preis/Person inkl.
  Eintritt\, Essen und Fahrt € 90\,--.
ATTACH;FMTTYPE=image/jpeg:https://stadtmarketing-nortorf.de/wp-content/upl
 oads/2026/03/LandFrauenVerein-Nortorfer-Land-e.V.png
CATEGORIES:Sonstiges
LOCATION:Lüneburg\, Lüneburg Stadt\, Lüneburg\, 24622\, Deutschland
X-APPLE-STRUCTURED-LOCATION;VALUE=URI;X-ADDRESS=Lüneburg Stadt\, Lüneburg
 \, 24622\, Deutschland;X-APPLE-RADIUS=100;X-TITLE=Lüneburg:geo:0,0
END:VEVENT
BEGIN:VTIMEZONE
TZID:Europe/Berlin
X-LIC-LOCATION:Europe/Berlin
BEGIN:DAYLIGHT
DTSTART:20260329T030000
TZOFFSETFROM:+0100
TZOFFSETTO:+0200
TZNAME:CEST
END:DAYLIGHT
END:VTIMEZONE
END:VCALENDAR