BEGIN:VCALENDAR
VERSION:2.0
PRODID:-//wp-events-plugin.com//7.2.3.1//EN
TZID:Europe/Berlin
X-WR-TIMEZONE:Europe/Berlin
BEGIN:VEVENT
UID:2505@stadtmarketing-nortorf.de
DTSTART;TZID=Europe/Berlin:20260415T193000
DTEND;TZID=Europe/Berlin:20260415T213000
DTSTAMP:20260304T110341Z
URL:https://stadtmarketing-nortorf.de/veranstaltungen/elternkurs-starke-el
 tern-starke-kinder-4/
SUMMARY:Elternkurs – „Starke Eltern – Starke Kinder“
DESCRIPTION:Ihr wünscht euch mehr Freude &amp\; Leichtigkeit im Familienle
 ben?\n\nKennt ihr die folgenden Fragen und Themen?\n\nWie lösen wir Probl
 eme in der Familie?\nWo ziehe ich Grenzen?\nMein Kind hört nicht auf mich
 !\nIch brauche auch mal Zeit für mich!\n\nDann heißen wir euch herzlich 
 Willkommen zum Elternkurs im Familienzentrum der KiTa Nortorf.\n\nWir möc
 hten mit euch an diesen und anderen Themen arbeiten:\n– Erziehungsziele 
 und –werte\n– die Bedürfnisse + Rechte von Kindern und Eltern\n– di
 e Kommunikation in der Familie\n– den Umgang miteinander in Konfliktsitu
 ationen\n\nTermine immer mittwochs:\n11.03.2026\n18.03.2026\n25.03.2026\n1
 5.04.2026\n22.04.2026\n29.04.2026\n\nWir freuen uns auf EUCH! 
CATEGORIES:Bildung,Kinder,Schule &amp; Bildung
LOCATION:Kita Nortorf "kleines Haus"\, Kieler Straße 29a\, Nortorf\, Schle
 swig-Holstein\, 24589\, Deutschland
X-APPLE-STRUCTURED-LOCATION;VALUE=URI;X-ADDRESS=Kieler Straße 29a\, Nortor
 f\, Schleswig-Holstein\, 24589\, Deutschland;X-APPLE-RADIUS=100;X-TITLE=Ki
 ta Nortorf \"kleines Haus\":geo:0,0
END:VEVENT
BEGIN:VTIMEZONE
TZID:Europe/Berlin
X-LIC-LOCATION:Europe/Berlin
BEGIN:DAYLIGHT
DTSTART:20260329T030000
TZOFFSETFROM:+0100
TZOFFSETTO:+0200
TZNAME:CEST
END:DAYLIGHT
END:VTIMEZONE
END:VCALENDAR