BEGIN:VCALENDAR
VERSION:2.0
PRODID:-//wp-events-plugin.com//7.2.3.1//EN
TZID:Europe/Berlin
X-WR-TIMEZONE:Europe/Berlin
BEGIN:VEVENT
UID:884@stadtmarketing-nortorf.de
DTSTART;TZID=Europe/Berlin:20230915T200000
DTEND;TZID=Europe/Berlin:20230915T200000
DTSTAMP:20230427T111015Z
URL:https://stadtmarketing-nortorf.de/veranstaltungen/en-suite-allein-mit-
 audrey-hepburn/
SUMMARY:EN SUITE Allein mit Audrey Hepburn
DESCRIPTION:Jeder kennt sie\, jeder liebt sie. Durch Filme wie „Frühstü
 ck bei Tiffany“ oder „Sabrina“ wurde sie zu einer Ikone\, die bis He
 ute ihren Glanz nicht verloren hat: Audrey Hepburn.\n\nDen Zuschauern wurd
 e diese wunderschöne Schauspielerin mit ihren hungrig-großen Augen als g
 ut gelaunte\, junggebliebene und etwas verträumte Frau präsentiert. Doch
  wer war sie wirklich\, was hat sie bewegt? Sigrid Behrens Stück „En Su
 ite – Allein mit Audrey Hepburn“ befasst sich mit dem wahren Leben die
 ser außergewöhnlichen Frau. Sie arbeitete mit den großen Filmregisseure
 n ihrer Zeit zusammen\, gewann für ihren ersten Hollywood-Film „Ein Her
 z und eine Krone“ den Oscar und zog die Zuschauer damals wie heute in ih
 ren Bann.\n\nDoch Audrey Hepburn war nicht nur eine berühmte Schauspieler
 in und leidenschaftliche Tänzerin\, sie war auch eine verletzliche\, jung
 e Frau\, die stetig auf der Suche nach einem erfüllten Leben war und der 
 im Laufe ihres Lebens einige Steine in den Weg gelegt wurden. Unter der Re
 gie von Birgit Voigt feierte Daniela Michel mit diesem Stück einige Erfol
 ge und wird vom Solinger Tageblatt als „Äußerlich perfekt dem Original
  angeglichen“ bezeichnet. „Die geschickt eingebauten\, gekonnt leicht 
 vorgetragenen Gesangs- und Tanznummern“ (Badische neuste Nachrichten) ge
 ben diesem Tiefgründigen Stück eine gewisse Leichtigkeit\, während sie 
 die Möglichkeit bekommen Audrey Hepburn auf eine ganz neue Art und Weise 
 kennenzulernen.\n\nDie Karten kosten € 19\,00 und können bei Edeka Till
  3 Wochen vorher gekauft werden.\n\n© Fotos: Jürgen Schurr
ATTACH;FMTTYPE=image/jpeg:https://stadtmarketing-nortorf.de/wp-content/upl
 oads/2023/03/va-ensuite.jpg
CATEGORIES:Bühnenkunst &amp; Theater
LOCATION:St. Martin Kirche\, Niedernstraße 2\, Nortorf\, 24589\, Deutschla
 nd
GEO:54.169716;9.855515
X-APPLE-STRUCTURED-LOCATION;VALUE=URI;X-ADDRESS=Niedernstraße 2\, Nortorf\
 , 24589\, Deutschland;X-APPLE-RADIUS=100;X-TITLE=St. Martin Kirche:geo:54.
 169716,9.855515
END:VEVENT
BEGIN:VTIMEZONE
TZID:Europe/Berlin
X-LIC-LOCATION:Europe/Berlin
BEGIN:DAYLIGHT
DTSTART:20230326T030000
TZOFFSETFROM:+0100
TZOFFSETTO:+0200
TZNAME:CEST
END:DAYLIGHT
END:VTIMEZONE
END:VCALENDAR