BEGIN:VCALENDAR
VERSION:2.0
PRODID:-//wp-events-plugin.com//7.2.3.1//EN
TZID:Europe/Berlin
X-WR-TIMEZONE:Europe/Berlin
BEGIN:VEVENT
UID:2442@stadtmarketing-nortorf.de
DTSTART;TZID=Europe/Berlin:20260227T180000
DTEND;TZID=Europe/Berlin:20260319T210000
DTSTAMP:20260224T103610Z
URL:https://stadtmarketing-nortorf.de/veranstaltungen/ergonomieberatung-me
 hr-komfort-und-weniger-beschwerden-auf-dem-e-bike/
SUMMARY:Ergonomieberatung - mehr Komfort und weniger Beschwerden auf dem E-
 Bike
DESCRIPTION:Ergonomieberatung für ein professionelles Bikefitting\n\nDie r
 ichtige Einstellung Deines Bikes steigert nicht nur Komfort und Leistung\,
  sondern befreit auch von verschiedenen Beschwerden. Die häufigsten Probl
 eme sind Taubheitsgefühle in Fingern\, Zehen und dem Genitalbereich. Aber
  auch Schmerzen in den Kniegelenken\, an der Halswirbelsäule oder im Rüc
 ken sind bei vielen Radlern leider normal.\n\nBei einem professionellen Bi
 kefitting wird Deine Sitzposition auf dem Fahrrad mittels spezieller Techn
 ik so optimiert\, dass das Radfahren wieder ausschließlich Spaß macht. D
 iesen Service bietet Mirka von den Comfytters aus Kiel an.\n\nIn einem kur
 zweiligen Workshop gibt Mirka Grundlagen ihres Ergonomiewissens an uns wei
 ter\, berät zu Schmerzursachen\, gibt Tipps zur Linderung und macht eine 
 erste Satteldruckmessung (hierfür bitte das Rad mitbringen).\nDie Teilnah
 me an der 3-stündigen Beratung samt Snacks und Getränken kostet 25€ un
 d kann auf ein späteres maßgeschneidertes Bikefitting angerechnet werden
 .\n\nAnmeldung unter: info@allrid-e.de.
ATTACH;FMTTYPE=image/jpeg:https://stadtmarketing-nortorf.de/wp-content/upl
 oads/2022/09/va-allride-1.jpg
CATEGORIES:Sport &amp; Bewegung
LOCATION:allrid-E\, Gnutzer Straße 20\, Nortorf\, 24589\, Deutschland
GEO:54.150238;9.851373
X-APPLE-STRUCTURED-LOCATION;VALUE=URI;X-ADDRESS=Gnutzer Straße 20\, Nortor
 f\, 24589\, Deutschland;X-APPLE-RADIUS=100;X-TITLE=allrid-E:geo:54.150238,
 9.851373
END:VEVENT
BEGIN:VTIMEZONE
TZID:Europe/Berlin
X-LIC-LOCATION:Europe/Berlin
BEGIN:STANDARD
DTSTART:20251026T020000
TZOFFSETFROM:+0200
TZOFFSETTO:+0100
TZNAME:CET
END:STANDARD
END:VTIMEZONE
END:VCALENDAR