BEGIN:VCALENDAR
VERSION:2.0
PRODID:-//wp-events-plugin.com//7.2.3.1//EN
TZID:Europe/Berlin
X-WR-TIMEZONE:Europe/Berlin
BEGIN:VEVENT
UID:886@stadtmarketing-nortorf.de
DTSTART;TZID=Europe/Berlin:20230319T100000
DTEND;TZID=Europe/Berlin:20230319T110000
DTSTAMP:20230317T095735Z
URL:https://stadtmarketing-nortorf.de/veranstaltungen/festgottesdienst-zur
 -verabschiedung-von-sabine-bertram/
SUMMARY:Festgottesdienst zur Verabschiedung von Sabine Bertram
DESCRIPTION:Unsere Kita-Leiterin Sabine Bertram geht nach fast 40 Jahren in
  den Ruhestand. In diesem Gottesdienst wollen wir sie feierlich verabschie
 den.
ATTACH;FMTTYPE=image/jpeg:https://stadtmarketing-nortorf.de/wp-content/upl
 oads/2023/01/va-kirchengemeinde.jpg
CATEGORIES:Kirche
LOCATION:St. Martin-Kirche\, Am Markt\, Nortorf\, Deutschland
X-APPLE-STRUCTURED-LOCATION;VALUE=URI;X-ADDRESS=Am Markt\, Nortorf\, Deutsc
 hland;X-APPLE-RADIUS=100;X-TITLE=St. Martin-Kirche:geo:0,0
END:VEVENT
BEGIN:VTIMEZONE
TZID:Europe/Berlin
X-LIC-LOCATION:Europe/Berlin
BEGIN:STANDARD
DTSTART:20221030T020000
TZOFFSETFROM:+0200
TZOFFSETTO:+0100
TZNAME:CET
END:STANDARD
END:VTIMEZONE
END:VCALENDAR