BEGIN:VCALENDAR
VERSION:2.0
PRODID:-//wp-events-plugin.com//7.2.3.1//EN
TZID:Europe/Berlin
X-WR-TIMEZONE:Europe/Berlin
BEGIN:VEVENT
UID:818@stadtmarketing-nortorf.de
DTSTART;TZID=Europe/Berlin;VALUE=DATE:20230102
DTEND;TZID=Europe/Berlin;VALUE=DATE:20230103
DTSTAMP:20221220T090853Z
URL:https://stadtmarketing-nortorf.de/veranstaltungen/geschlossen-2023-01-
 02/
SUMMARY:Geschlossen
DESCRIPTION:montags bleibt der Winterzauber geschlossen
ATTACH;FMTTYPE=image/jpeg:https://stadtmarketing-nortorf.de/wp-content/upl
 oads/2022/09/va-winterzauber-geschlossen.jpg
LOCATION:Marktplatz Nortorf\, Am Markt\, Nortorf\, 24589\, Deutschland
GEO:54.169116;9.855288
X-APPLE-STRUCTURED-LOCATION;VALUE=URI;X-ADDRESS=Am Markt\, Nortorf\, 24589\
 , Deutschland;X-APPLE-RADIUS=100;X-TITLE=Marktplatz Nortorf:geo:54.169116,
 9.855288
END:VEVENT
BEGIN:VTIMEZONE
TZID:Europe/Berlin
X-LIC-LOCATION:Europe/Berlin
BEGIN:STANDARD
DTSTART:20221030T020000
TZOFFSETFROM:+0200
TZOFFSETTO:+0100
TZNAME:CET
END:STANDARD
END:VTIMEZONE
END:VCALENDAR