BEGIN:VCALENDAR
VERSION:2.0
PRODID:-//wp-events-plugin.com//7.2.3.1//EN
TZID:Europe/Berlin
X-WR-TIMEZONE:Europe/Berlin
BEGIN:VEVENT
UID:2333@stadtmarketing-nortorf.de
DTSTART;TZID=Europe/Berlin:20260526T130000
DTEND;TZID=Europe/Berlin:20260526T200000
DTSTAMP:20260116T120459Z
URL:https://stadtmarketing-nortorf.de/veranstaltungen/gildefest-der-nortor
 fer-vogelgilde-von-1612-2/
SUMMARY:Gildefest der Nortorfer Vogelgilde von 1612
DESCRIPTION:Königsproklamation um 19:00 auf dem Marktplatz in Nortorf!
ATTACH;FMTTYPE=image/jpeg:https://stadtmarketing-nortorf.de/wp-content/upl
 oads/2024/02/vogelgilde.png
CATEGORIES:Kultur
LOCATION:Gasthof Ritzebüttel\, Rendsburger Straße 11\, Nortorf\, 24589\, 
 Deutschland
GEO:54.172701;9.843567
X-APPLE-STRUCTURED-LOCATION;VALUE=URI;X-ADDRESS=Rendsburger Straße 11\, No
 rtorf\, 24589\, Deutschland;X-APPLE-RADIUS=100;X-TITLE=Gasthof Ritzebütte
 l:geo:54.172701,9.843567
END:VEVENT
BEGIN:VTIMEZONE
TZID:Europe/Berlin
X-LIC-LOCATION:Europe/Berlin
BEGIN:DAYLIGHT
DTSTART:20260329T030000
TZOFFSETFROM:+0100
TZOFFSETTO:+0200
TZNAME:CEST
END:DAYLIGHT
END:VTIMEZONE
END:VCALENDAR