BEGIN:VCALENDAR
VERSION:2.0
PRODID:-//wp-events-plugin.com//7.2.3.1//EN
TZID:Europe/Berlin
X-WR-TIMEZONE:Europe/Berlin
BEGIN:VEVENT
UID:2425@stadtmarketing-nortorf.de
DTSTART;TZID=Europe/Berlin:20261212T190000
DTEND;TZID=Europe/Berlin:20261212T210000
DTSTAMP:20260217T110442Z
URL:https://stadtmarketing-nortorf.de/veranstaltungen/gospel-chor-pahlen/
SUMMARY:Gospel Chor Pahlen
DESCRIPTION:\n\nWir präsentieren ein Weihnachtskonzert mit dem Gospel Chor
  Pahlen.\n\nWeitere Infos folgen.
ATTACH;FMTTYPE=image/jpeg:https://stadtmarketing-nortorf.de/wp-content/upl
 oads/2022/11/va-lions-gospel.jpg
CATEGORIES:Konzerte
LOCATION:St. Martin Kirche\, Niedernstraße 2\, Nortorf\, 24589\, Deutschla
 nd
GEO:54.169716;9.855515
X-APPLE-STRUCTURED-LOCATION;VALUE=URI;X-ADDRESS=Niedernstraße 2\, Nortorf\
 , 24589\, Deutschland;X-APPLE-RADIUS=100;X-TITLE=St. Martin Kirche:geo:54.
 169716,9.855515
END:VEVENT
BEGIN:VTIMEZONE
TZID:Europe/Berlin
X-LIC-LOCATION:Europe/Berlin
BEGIN:STANDARD
DTSTART:20261025T020000
TZOFFSETFROM:+0200
TZOFFSETTO:+0100
TZNAME:CET
END:STANDARD
END:VTIMEZONE
END:VCALENDAR