BEGIN:VCALENDAR
VERSION:2.0
PRODID:-//wp-events-plugin.com//7.2.3.1//EN
TZID:Europe/Berlin
X-WR-TIMEZONE:Europe/Berlin
BEGIN:VEVENT
UID:2346@stadtmarketing-nortorf.de
DTSTART;TZID=Europe/Berlin:20260308T180000
DTEND;TZID=Europe/Berlin:20260308T190000
DTSTAMP:20260205T103913Z
URL:https://stadtmarketing-nortorf.de/veranstaltungen/gospelabendgottesdie
 nst-zum-frauentag-mit-pn-dr-bauer-pn-trede-und-dem-gospelchor-come-wanna-s
 ing/
SUMMARY:Gottesdienst am Weltfrauentag
DESCRIPTION:Mit dem Gospelchor "Come Wanna Sing" und den Pastorinnen Anna T
 rede und Dr. Brinja Bauer.\n\n&nbsp\;\n\nWir freuen uns auf EUCH!
ATTACH;FMTTYPE=image/jpeg:https://stadtmarketing-nortorf.de/wp-content/upl
 oads/2023/01/va-kirchengemeinde.jpg
CATEGORIES:Kirche
LOCATION:Markushaus\, Niedernstraße 2\, Nortorf\, 24589\, Deutschland
X-APPLE-STRUCTURED-LOCATION;VALUE=URI;X-ADDRESS=Niedernstraße 2\, Nortorf\
 , 24589\, Deutschland;X-APPLE-RADIUS=100;X-TITLE=Markushaus:geo:0,0
END:VEVENT
BEGIN:VTIMEZONE
TZID:Europe/Berlin
X-LIC-LOCATION:Europe/Berlin
BEGIN:STANDARD
DTSTART:20251026T020000
TZOFFSETFROM:+0200
TZOFFSETTO:+0100
TZNAME:CET
END:STANDARD
END:VTIMEZONE
END:VCALENDAR