BEGIN:VCALENDAR
VERSION:2.0
PRODID:-//wp-events-plugin.com//7.2.3.1//EN
TZID:Europe/Berlin
X-WR-TIMEZONE:Europe/Berlin
BEGIN:VEVENT
UID:2509@stadtmarketing-nortorf.de
DTSTART;TZID=Europe/Berlin:20260315T140000
DTEND;TZID=Europe/Berlin:20260315T150000
DTSTAMP:20260306T104658Z
URL:https://stadtmarketing-nortorf.de/veranstaltungen/kirchen-und-turmfueh
 rung-in-der-st-martin-kirche/
SUMMARY:Kirchen- und Turmführung in der St. Martin-Kirche
DESCRIPTION:Karsten Harp lädt ein\, hinter die Kulissen der St. Martin-Kir
 che zu schauen. Die Führung ist kostenlos\, aber wir freuen uns immer üb
 er eine kleine Spende.\nTreffpunkt ist im Turmraum.\nAnmeldung: Karsten Ha
 rp\, Tel.: 04392-3109 / Mail: karsten.harp@kkre.de
ATTACH;FMTTYPE=image/jpeg:https://stadtmarketing-nortorf.de/wp-content/upl
 oads/2023/01/va-kirchengemeinde.jpg
CATEGORIES:Kirche
LOCATION:St. Martin-Kirche\, Am Markt\, Nortorf\, Deutschland
X-APPLE-STRUCTURED-LOCATION;VALUE=URI;X-ADDRESS=Am Markt\, Nortorf\, Deutsc
 hland;X-APPLE-RADIUS=100;X-TITLE=St. Martin-Kirche:geo:0,0
END:VEVENT
BEGIN:VTIMEZONE
TZID:Europe/Berlin
X-LIC-LOCATION:Europe/Berlin
BEGIN:STANDARD
DTSTART:20251026T020000
TZOFFSETFROM:+0200
TZOFFSETTO:+0100
TZNAME:CET
END:STANDARD
END:VTIMEZONE
END:VCALENDAR