BEGIN:VCALENDAR
VERSION:2.0
PRODID:-//wp-events-plugin.com//7.2.3.1//EN
TZID:Europe/Berlin
X-WR-TIMEZONE:Europe/Berlin
BEGIN:VEVENT
UID:2426@stadtmarketing-nortorf.de
DTSTART;TZID=Europe/Berlin:20260321T100000
DTEND;TZID=Europe/Berlin:20260321T140000
DTSTAMP:20260217T095629Z
URL:https://stadtmarketing-nortorf.de/veranstaltungen/kurs-obstbaumschnitt
 /
SUMMARY:Kurs: Obstbaumschnitt
DESCRIPTION:Apfel\, Birne oder Quitte sollten idealerweise im Winter\, bei 
 frostfreiem Wetter beschnitten werden\, damit der Baum Früchte trägt. Am
  Samstag\, 21.03.2026\, leitet Oleg Ceban von der Ceban-Baumschule in Sör
 up zum richtigen Ostbaumschnitt an.\n\nTeilnehmende sollten wettergerechte
  Kleidung\, eigenes Schnitt-Werkzeug wie Scheren oder Sägen sowie Handsch
 uhe mitbringen.\n\nKosten sind 25 Euro inklusive Eintritt in den Tierpark.
 \n\nBitte für den Kurs anmelden über die Email klingel@arche-warder.de
ATTACH;FMTTYPE=image/jpeg:https://stadtmarketing-nortorf.de/wp-content/upl
 oads/2025/02/va-arche-warder.jpg
CATEGORIES:Exkursionen &amp; Wanderungen,Sonstiges
LOCATION:Tierpark Arche Warder\, Langwedeler Weg 11\, Warder\, Schleswig-Ho
 lstein\, 24646\, Deutschland
X-APPLE-STRUCTURED-LOCATION;VALUE=URI;X-ADDRESS=Langwedeler Weg 11\, Warder
 \, Schleswig-Holstein\, 24646\, Deutschland;X-APPLE-RADIUS=100;X-TITLE=Tie
 rpark Arche Warder:geo:0,0
END:VEVENT
BEGIN:VTIMEZONE
TZID:Europe/Berlin
X-LIC-LOCATION:Europe/Berlin
BEGIN:STANDARD
DTSTART:20251026T020000
TZOFFSETFROM:+0200
TZOFFSETTO:+0100
TZNAME:CET
END:STANDARD
END:VTIMEZONE
END:VCALENDAR