BEGIN:VCALENDAR
VERSION:2.0
PRODID:-//wp-events-plugin.com//7.2.3.1//EN
TZID:Europe/Berlin
X-WR-TIMEZONE:Europe/Berlin
BEGIN:VEVENT
UID:2423@stadtmarketing-nortorf.de
DTSTART;TZID=Europe/Berlin:20260423T193000
DTEND;TZID=Europe/Berlin:20260423T213000
DTSTAMP:20260217T095952Z
URL:https://stadtmarketing-nortorf.de/veranstaltungen/lesung-buchvorstellu
 ng-ulrike-dotzer-agnes-im-meer/
SUMMARY:Lesung: Buchvorstellung Ulrike Dotzer „Agnes im Meer“
DESCRIPTION:Ulrike Dotzer stellt ihr neuestes Buch „Agnes im Meer“ in N
 ortorf vor. „Agnes im Meer“ erzählt von einem untergegangenen Koog in
  Dithmarschen und von einer unbestechlichen Frau. Die Handlung fußt auf r
 ealen Ereignissen und erzählt vom rauen Leben der Menschen\, die in der e
 rsten Hälfte des 20. Jahrhunderts versuchten\, Trischen - heute bekannt a
 ls Vogelinsel - zu bewirtschaften.\n\nInspiriert ist die literarische Figu
 r von einer Frau aus Marne\, von der Ulrike Dotzer aus einem Manuskript de
 s Vogelwarts Peter Todt erfuhr\, der viele Sommer für den NABU auf Trisch
 en verbrachte. In den Wintern recherchierter er die Geschichte der Wanderi
 nsel. Atmosphärisch dicht erzählt der Roman von der Mühsal des Deichbau
 s\, von Landwirtschaft\, die dem Untergang geweiht ist\; er erzählt auch 
 von Agnes Liebe zum Vogelwart\, von ehrgeizigen Pächtern\, ausufernden So
 mmerfesten und dem Aufstieg der Nationalsozialisten in Dithmarschen.\n\nKa
 rten zu 15 € im Vorverkauf gibt es bei Lebenswert in Nortorf\, Poststras
 se 11 (Abendkasse 17 €)
ATTACH;FMTTYPE=image/jpeg:https://stadtmarketing-nortorf.de/wp-content/upl
 oads/2023/08/va-literatur-live.jpg
CATEGORIES:Lesung
LOCATION:Markushaus\, Niedernstraße 2\, Nortorf\, 24589\, Deutschland
X-APPLE-STRUCTURED-LOCATION;VALUE=URI;X-ADDRESS=Niedernstraße 2\, Nortorf\
 , 24589\, Deutschland;X-APPLE-RADIUS=100;X-TITLE=Markushaus:geo:0,0
END:VEVENT
BEGIN:VTIMEZONE
TZID:Europe/Berlin
X-LIC-LOCATION:Europe/Berlin
BEGIN:DAYLIGHT
DTSTART:20260329T030000
TZOFFSETFROM:+0100
TZOFFSETTO:+0200
TZNAME:CEST
END:DAYLIGHT
END:VTIMEZONE
END:VCALENDAR