BEGIN:VCALENDAR
VERSION:2.0
PRODID:-//wp-events-plugin.com//7.2.3.1//EN
TZID:Europe/Berlin
X-WR-TIMEZONE:Europe/Berlin
BEGIN:VEVENT
UID:2424@stadtmarketing-nortorf.de
DTSTART;TZID=Europe/Berlin:20261123T193000
DTEND;TZID=Europe/Berlin:20261123T213000
DTSTAMP:20260217T110238Z
URL:https://stadtmarketing-nortorf.de/veranstaltungen/lesung-der-autorinne
 n-silke-von-bremen-und-susanne-matthiesen-wind-wellen-ewigkeit-geschichten
 -ueber-sylter-graeber/
SUMMARY:Lesung der Autorinnen Silke von Bremen und Susanne Matthiesen: Wind
 . Wellen. Ewigkeit. Geschichten über Sylter Gräber
DESCRIPTION:[caption id="attachment_13742" align="alignleft" width="300"] S
 creenshot[/caption]\n\nIn ihrem gemeinsamen Buch\, „Wind\, Wellen\, Ewig
 keit. Geschichten von Sylter Gräbern“ gegeben sich Silke von Bremen und
  Susanne Matthiesen auf eine berührende Spurensuche. Das Buch erzählt au
 ßergewöhnliche Lebenswege von Menschen\, die Sylt geprägt haben - und v
 on der Insel geprägt wurden.\nEin Abend über bewegte Leben\, stille Absc
 hiede - und eine Insel\, die all dies bewahrt.\n\nKarten gibt es im Vorver
 kauf bei Lebenswert in Nortorf\, Poststrasse 11
ATTACH;FMTTYPE=image/jpeg:https://stadtmarketing-nortorf.de/wp-content/upl
 oads/2023/08/va-literatur-live.jpg
CATEGORIES:Lesung
LOCATION:Markushaus\, Niedernstraße 2\, Nortorf\, 24589\, Deutschland
X-APPLE-STRUCTURED-LOCATION;VALUE=URI;X-ADDRESS=Niedernstraße 2\, Nortorf\
 , 24589\, Deutschland;X-APPLE-RADIUS=100;X-TITLE=Markushaus:geo:0,0
END:VEVENT
BEGIN:VTIMEZONE
TZID:Europe/Berlin
X-LIC-LOCATION:Europe/Berlin
BEGIN:STANDARD
DTSTART:20261025T020000
TZOFFSETFROM:+0200
TZOFFSETTO:+0100
TZNAME:CET
END:STANDARD
END:VTIMEZONE
END:VCALENDAR