BEGIN:VCALENDAR
VERSION:2.0
PRODID:-//wp-events-plugin.com//7.2.3.1//EN
TZID:Europe/Berlin
X-WR-TIMEZONE:Europe/Berlin
BEGIN:VEVENT
UID:1890@stadtmarketing-nortorf.de
DTSTART;TZID=Europe/Berlin:20250221T193000
DTEND;TZID=Europe/Berlin:20250221T213000
DTSTAMP:20241210T121217Z
URL:https://stadtmarketing-nortorf.de/veranstaltungen/lesung-mit-gustav-pe
 ter-woehler-christian-maintz-vom-knoedel-wollen-wir-singen-geschichten-und
 -gedichte-ueber-kulinarik/
SUMMARY:Lesung mit Gustav Peter Wöhler &amp\; Christian Maintz : Vom Knöd
 el wollen wir singen - Geschichten und Gedichte über Kulinarik
DESCRIPTION:Der Schauspieler Gustav Peter Wöhler und der Autor Christian M
 aintz lesen humoristische Texte über zwei sehr grundlegende irdische Bed
 ürfnisse: das Essen und das Trinken. Sie singen vom Knödel\, preisen Mü
 sli und Rosenkohl\, Kartoffeln und Lauch\, Fisch und Fleisch\, Bier und Sl
 ibowitz und bitten Dichter wie Heinrich Heine\, Wilhelm Busch\, Joachim Ri
 ngelnatz Mascha Kaléko u.v.a. zu Tisch. Der Abend basiert großenteils au
 f Christian Maintz Gedichtesammlung „ Vom Knödel wollen wir singen“ d
 ie im Verlag Antje Kunstmann erschienen ist. Das Programm zeigt\, dass die
  deutsche Literatur durchaus keine komikfreie Zone ist.
ATTACH;FMTTYPE=image/jpeg:https://stadtmarketing-nortorf.de/wp-content/upl
 oads/2023/08/va-literatur-live.jpg
CATEGORIES:Sonstiges
LOCATION:Haus der Vereine und Verbände\, Schülper Weg 3\, Nortorf\, 24589
 \, Deutschland
X-APPLE-STRUCTURED-LOCATION;VALUE=URI;X-ADDRESS=Schülper Weg 3\, Nortorf\,
  24589\, Deutschland;X-APPLE-RADIUS=100;X-TITLE=Haus der Vereine und Verb
 ände:geo:0,0
END:VEVENT
BEGIN:VTIMEZONE
TZID:Europe/Berlin
X-LIC-LOCATION:Europe/Berlin
BEGIN:STANDARD
DTSTART:20241027T020000
TZOFFSETFROM:+0200
TZOFFSETTO:+0100
TZNAME:CET
END:STANDARD
END:VTIMEZONE
END:VCALENDAR