BEGIN:VCALENDAR
VERSION:2.0
PRODID:-//wp-events-plugin.com//7.2.3.1//EN
TZID:Europe/Berlin
X-WR-TIMEZONE:Europe/Berlin
BEGIN:VEVENT
UID:2450@stadtmarketing-nortorf.de
DTSTART;TZID=Europe/Berlin:20260424T190000
DTEND;TZID=Europe/Berlin:20260424T210000
DTSTAMP:20260224T102241Z
URL:https://stadtmarketing-nortorf.de/veranstaltungen/lesung-wein-carola-s
 eeler-liest-einmal-haithabu-und-zurueck/
SUMMARY:Lesung & Wein. Carola Seeler liest: Einmal Haithabu und zurück
DESCRIPTION:Im Zeitreise-Abenteuer „Einmal Haithabu und zurück“ versch
 melzen Geschichte und Gegenwart zu einem Roman mit realem Bezug: Es versch
 lägt die Lübecker Autorin und Protagonistin Carola Seeler mit ihrem inzw
 ischen in Borgdorf lebenden Enkel von einem scheinbar ganz normalen Ausflu
 g an die Schlei mitten hinein in die Wikingerzeit: Wo nur ein Sonntagsausf
 lug geplant war\, tobt plötzlich das Leben der Händler und Krieger im Ja
 hr 965: Zwischen Wällen\, Wasserwegen und Langhäusern entdecken die beid
 en die Wikingerwelt genau dort\, wo wir heute spazieren gehen\, Fahrrad fa
 hren und Sonntagsausflüge machen.\n\nWer aus der Region stammt\, erkennt 
 viele vertraute Namen wieder – nur eben mit Wikingerhelmen\, Rauchfeuern
  und einem Hauch Magie.\n\nDie Gemeinde Borgdorf-Seedorf lädt zusammen mi
 t der Autorin zu einer Lesung am Freitag\, 24. April\, 19 Uhr\, ins Borgdo
 rfer Dorfgemeinschaftshaus ein. Hier werden die Zuhörer an einen original
 en Schauplatz des Buches mitgenommen und erleben\, wie nah ihre Heimat an 
 den Spuren der Geschichte liegt.\n\nDer Eintritt ist frei\, es gibt Snacks
  und Getränke. Um eine Spende wird daher gebeten.
CATEGORIES:Lesung
LOCATION:Dorfgemeinschaftshaus\, Schulstraße\, Borgdorf-Seedorf\, 24589\, 
 Deutschland
X-APPLE-STRUCTURED-LOCATION;VALUE=URI;X-ADDRESS=Schulstraße\, Borgdorf-See
 dorf\, 24589\, Deutschland;X-APPLE-RADIUS=100;X-TITLE=Dorfgemeinschaftshau
 s:geo:0,0
END:VEVENT
BEGIN:VTIMEZONE
TZID:Europe/Berlin
X-LIC-LOCATION:Europe/Berlin
BEGIN:DAYLIGHT
DTSTART:20260329T030000
TZOFFSETFROM:+0100
TZOFFSETTO:+0200
TZNAME:CEST
END:DAYLIGHT
END:VTIMEZONE
END:VCALENDAR