BEGIN:VCALENDAR
VERSION:2.0
PRODID:-//wp-events-plugin.com//7.2.3.1//EN
TZID:Europe/Berlin
X-WR-TIMEZONE:Europe/Berlin
BEGIN:VEVENT
UID:2437@stadtmarketing-nortorf.de
DTSTART;TZID=Europe/Berlin:20260516T100000
DTEND;TZID=Europe/Berlin:20260516T180000
DTSTAMP:20260219T123555Z
URL:https://stadtmarketing-nortorf.de/veranstaltungen/mittelalter-live-mit
 -mensch-und-tier-3/
SUMMARY:Mittelalter Live mit Mensch und Tier
DESCRIPTION:[caption id="attachment_13775" align="alignleft" width="300"] S
 ONY DSC[/caption]\n\nMittelalter Live in der Arche Warder – das ist ein 
 viertägiges Spektakel über das Himmelfahrts-Wochenende vom 14.05. bis 17
 .05.2026\, das man nicht verpassen darf. Auf einem bunten Mittelaltermarkt
 \, der sich über fünf Koppeln erstreckt und mit seinen weit mehr als 300
  Gewandeten eine ganz besondere Atmosphäre bietet\, steht ein Programm vo
 ller Höhepunkte an.\n\nIn der Schmiede entstehen Schwerter\, Körbe werde
 n geflochten\, über dem offenen Feuer köchelt das Mittagsmahl\, bei Scha
 ukämpfen klirren die Klingen. Besucher können bei diesem besonderen Even
 t das Zusammenleben von Mensch und Tier in dieser Zeit erleben\, denn Tier
 e aus der Arche tummeln sich mitten im Lagerleben. Die Arche Warder\, die 
 sich um den Erhalt alter und bedrohter Nutztierrassen kümmert\, stellt de
 n Mittelalter-Darstellern Poitou-Esel\, Walachenschafe\, Skudden und Parkr
 inder zur Seite. Alles Tiere\, die vom frühen bis späten Mittelalter ein
 e Rolle im bäuerlichen Leben spielten. Für Spaß und Nervenkitzel sorgen
  Schaukämpfe\, die mit Äxten\, Schwertern oder Lanzen auf dem Kampfplatz
  ausgetragen werden.\n\nAn jedem Tag sorgen neue Aktivitäten und Vorführ
 ungen für Überraschungen\, auch Musik steht auf dem Programm. Groß und 
 Klein können viele weitere Angebote wahrnehmen und dabei auch selbst akti
 v werden – Perlenketten und Lederbeutel herstellen\, Körbe flechten\, S
 peckstein schleifen oder beim Bogenschießen und Speerwerfen mitmachen.
ATTACH;FMTTYPE=image/jpeg:https://stadtmarketing-nortorf.de/wp-content/upl
 oads/2025/02/va-arche-warder.jpg
CATEGORIES:Kinder,Märkte
LOCATION:Tierpark Arche Warder\, Langwedeler Weg 11\, Warder\, Schleswig-Ho
 lstein\, 24646\, Deutschland
X-APPLE-STRUCTURED-LOCATION;VALUE=URI;X-ADDRESS=Langwedeler Weg 11\, Warder
 \, Schleswig-Holstein\, 24646\, Deutschland;X-APPLE-RADIUS=100;X-TITLE=Tie
 rpark Arche Warder:geo:0,0
END:VEVENT
BEGIN:VTIMEZONE
TZID:Europe/Berlin
X-LIC-LOCATION:Europe/Berlin
BEGIN:DAYLIGHT
DTSTART:20260329T030000
TZOFFSETFROM:+0100
TZOFFSETTO:+0200
TZNAME:CEST
END:DAYLIGHT
END:VTIMEZONE
END:VCALENDAR