BEGIN:VCALENDAR
VERSION:2.0
PRODID:-//wp-events-plugin.com//7.2.3.1//EN
TZID:Europe/Berlin
X-WR-TIMEZONE:Europe/Berlin
BEGIN:VEVENT
UID:2323@stadtmarketing-nortorf.de
DTSTART;TZID=Europe/Berlin:20260718T090000
DTEND;TZID=Europe/Berlin:20260719T213000
DTSTAMP:20260108T125307Z
URL:https://stadtmarketing-nortorf.de/veranstaltungen/mittelpunkt-marathon
 -2026-der-erste-marathon-im-mittelpunkt-schleswig-holsteins/
SUMMARY:Mittelpunkt-Marathon 2026! Der erste Marathon im Mittelpunkt Schles
 wig-Holsteins!
DESCRIPTION:Am 18.07.2026 findet der erste Mittelpunkt - Marathon 2026 durc
 h die Gemeinden der Stadt Nortorf statt.\nDie Läufer werden über 42\,125
  km um den Mittelpunkt des Bundeslandes Schleswig - Holsteins ihr Können 
 unter Beweis stellen und jubelnd am Marktplatz in Nortorf wieder in Empfan
 g genommen. Im Anschluss erfolgt die Siegerehrung\, ein Afterwork bei Musi
 k\, Getränken und leckeren Snacks in schöner Atmosphäre.\n\nAm 19.07.20
 26 findet sowohl ein Halbmarathon (21\,0975 km) und ein 10km - Lauf für d
 ie Läuferinnen und Läufer statt\, die sich für das Jahr 2026 persönlic
 h herausfordern wollen!\nIm Anschluss erfolgt eine Siegerehrung\, ein Afte
 rwork bei Musik\, Getränken und leckeren Snacks in schöner Atmosphäre.\
 n\nUnser Event endet am 19.07.2026 um 20:30 Uhr.\nDer erste Marathon im Mi
 ttelpunkt Schleswig - Holsteins!\n\nTickets ab 01.02.2026!
ATTACH;FMTTYPE=image/jpeg:https://stadtmarketing-nortorf.de/wp-content/upl
 oads/2026/01/Mittelpunkt-Marathon-scaled.png
CATEGORIES:Sport &amp; Bewegung
LOCATION:Marktplatz Nortorf\, Am Markt\, Nortorf\, 24589\, Deutschland
GEO:54.169116;9.855288
X-APPLE-STRUCTURED-LOCATION;VALUE=URI;X-ADDRESS=Am Markt\, Nortorf\, 24589\
 , Deutschland;X-APPLE-RADIUS=100;X-TITLE=Marktplatz Nortorf:geo:54.169116,
 9.855288
END:VEVENT
BEGIN:VTIMEZONE
TZID:Europe/Berlin
X-LIC-LOCATION:Europe/Berlin
BEGIN:DAYLIGHT
DTSTART:20260329T030000
TZOFFSETFROM:+0100
TZOFFSETTO:+0200
TZNAME:CEST
END:DAYLIGHT
END:VTIMEZONE
END:VCALENDAR