BEGIN:VCALENDAR
VERSION:2.0
PRODID:-//wp-events-plugin.com//7.2.3.1//EN
TZID:Europe/Berlin
X-WR-TIMEZONE:Europe/Berlin
BEGIN:VEVENT
UID:1631@stadtmarketing-nortorf.de
DTSTART;TZID=Europe/Berlin:20240309T180000
DTEND;TZID=Europe/Berlin:20240309T203000
DTSTAMP:20240219T115547Z
URL:https://stadtmarketing-nortorf.de/veranstaltungen/nordmarkhallenkonzer
 t-2/
SUMMARY:Nordmarkhallenkonzert
DESCRIPTION:Der Feuerwehrmusikzug des Amtes Nortorfer Land musiziert gemein
 sam mit den Musikzügen aus Breiholz\, Elsdorf-Westermühlen\, Fockbek und
  dem Feuerwehrspielmannszug Ascheffel. Das wird ein bunter Strauß Musik z
 um Mitklatschen und -schunkeln\, Schlager\, Pop- und Filmmusik mit tollen 
 Solisten und Gesangseinlagen! 😊\nEintrittskarten zum Preis von nur 10 E
 uro erhält man über die auftretenden Musikzüge\, bei der Geschäftsstel
 le des Kreisfeuerwehrverbandes Rendsburg-Eckernförde sowie an der Abendka
 sse.\nAls zusätzlichen Service bieten wir in diesem Jahr wieder einen Bus
 shuttle an\, der unsere Gäste sicher und einfach nach Rendsburg zur Nordm
 arkhalle und wieder zurückbringt. Es wird der Schulbus der Gemeinde Langw
 edel am Samstag\, den 9. März 2024 um 16.15 Uhr ab Langwedel Denkmal und 
 um 16.45 Uhr ab Nortorf Marktplatz fahren. Mehr Informationen gibt es dire
 kt beim Feuerwehrmusikzug Amt Nortorfer Land unter der Telefonnummer oder 
 0152/08603481 oder per E-Mail an mz-amt-nortorfer-land@t-online.de.
ATTACH;FMTTYPE=image/jpeg:https://stadtmarketing-nortorf.de/wp-content/upl
 oads/2022/11/va-feuerwehrmusikzug.jpg
CATEGORIES:Konzerte
LOCATION:Nordmarkhalle Rendsburg\, Willy-Brandt-Platz 1\, Rendsburg\, 24768
 \, Deutschland
X-APPLE-STRUCTURED-LOCATION;VALUE=URI;X-ADDRESS=Willy-Brandt-Platz 1\, Rend
 sburg\, 24768\, Deutschland;X-APPLE-RADIUS=100;X-TITLE=Nordmarkhalle Rends
 burg:geo:0,0
END:VEVENT
BEGIN:VTIMEZONE
TZID:Europe/Berlin
X-LIC-LOCATION:Europe/Berlin
BEGIN:STANDARD
DTSTART:20231029T020000
TZOFFSETFROM:+0200
TZOFFSETTO:+0100
TZNAME:CET
END:STANDARD
END:VTIMEZONE
END:VCALENDAR