BEGIN:VCALENDAR
VERSION:2.0
PRODID:-//wp-events-plugin.com//7.2.3.1//EN
TZID:Europe/Berlin
X-WR-TIMEZONE:Europe/Berlin
BEGIN:VEVENT
UID:2234@stadtmarketing-nortorf.de
DTSTART;TZID=Europe/Berlin;VALUE=DATE:20261127
DTEND;TZID=Europe/Berlin;VALUE=DATE:20261130
DTSTAMP:20260304T103505Z
URL:https://stadtmarketing-nortorf.de/veranstaltungen/nordoerper-adventsma
 rkt-2026/
SUMMARY:Nordörper Adventsmarkt 2026
DESCRIPTION:4. Nordörper Advent rund um die Kirche!\nSAVE THE DATE! Alle I
 nfos zu den Programmdetails folgen!\n
ATTACH;FMTTYPE=image/jpeg:https://stadtmarketing-nortorf.de/wp-content/upl
 oads/2024/01/va-adventsmarkt-2024.jpg
CATEGORIES:Weihnachtsmärkte
LOCATION:am Markt 2 - 8\, Am Markt 2 - 8\, Nortorf\, 24589\, Deutschland
X-APPLE-STRUCTURED-LOCATION;VALUE=URI;X-ADDRESS=Am Markt 2 - 8\, Nortorf\, 
 24589\, Deutschland;X-APPLE-RADIUS=100;X-TITLE=am Markt 2 - 8:geo:0,0
END:VEVENT
BEGIN:VTIMEZONE
TZID:Europe/Berlin
X-LIC-LOCATION:Europe/Berlin
BEGIN:STANDARD
DTSTART:20261025T020000
TZOFFSETFROM:+0200
TZOFFSETTO:+0100
TZNAME:CET
END:STANDARD
END:VTIMEZONE
END:VCALENDAR