BEGIN:VCALENDAR
VERSION:2.0
PRODID:-//wp-events-plugin.com//7.2.3.1//EN
TZID:Europe/Berlin
X-WR-TIMEZONE:Europe/Berlin
BEGIN:VEVENT
UID:652@stadtmarketing-nortorf.de
DTSTART;TZID=Europe/Berlin:20221216T190000
DTEND;TZID=Europe/Berlin:20221216T220000
DTSTAMP:20221216T094916Z
URL:https://stadtmarketing-nortorf.de/veranstaltungen/nortorfs-kulturelle-
 vielfalt/
SUMMARY:Nortorfs kulturelle Vielfalt - ABGESAGT!
DESCRIPTION:\n\nSchweren Herzens sagen wir unsere Veranstaltung "Nortorfs k
 ulturelle Vielfalt" für morgen Abend ab. -10 bis -13 Grad Außentemperatu
 ren sind zu kalt für unsere Gäste und uns\, auch wenn es im Winterzauber
  etwas wärmer ist. Wir werden euch im Frühling in den Stadtpark einladen
 .  Bleibt bis dahin gesund\, genießt die Weihnachtszeit und kommt gut ins
  neue Jahr! Herzliche Grüße von eurem Team "Nortorfs Kulturelle Vielfalt
 "
ATTACH;FMTTYPE=image/jpeg:https://stadtmarketing-nortorf.de/wp-content/upl
 oads/2022/09/va-winterzauber-musik.jpg
LOCATION:Marktplatz Nortorf\, Am Markt\, Nortorf\, 24589\, Deutschland
GEO:54.169116;9.855288
X-APPLE-STRUCTURED-LOCATION;VALUE=URI;X-ADDRESS=Am Markt\, Nortorf\, 24589\
 , Deutschland;X-APPLE-RADIUS=100;X-TITLE=Marktplatz Nortorf:geo:54.169116,
 9.855288
END:VEVENT
BEGIN:VTIMEZONE
TZID:Europe/Berlin
X-LIC-LOCATION:Europe/Berlin
BEGIN:STANDARD
DTSTART:20221030T020000
TZOFFSETFROM:+0200
TZOFFSETTO:+0100
TZNAME:CET
END:STANDARD
END:VTIMEZONE
END:VCALENDAR