BEGIN:VCALENDAR
VERSION:2.0
PRODID:-//wp-events-plugin.com//7.2.3.1//EN
TZID:Europe/Berlin
X-WR-TIMEZONE:Europe/Berlin
BEGIN:VEVENT
UID:2432@stadtmarketing-nortorf.de
DTSTART;TZID=Europe/Berlin:20260402T093000
DTEND;TZID=Europe/Berlin:20260402T150000
DTSTAMP:20260219T120827Z
URL:https://stadtmarketing-nortorf.de/veranstaltungen/osterferienprogramm-
 einmal-tierpfleger-in-sein/
SUMMARY:Osterferienprogramm: Einmal Tierpfleger/in sein
DESCRIPTION:In den Osterferien findet jeweils von 9.30-15 Uhr wieder das be
 liebte „Einmal Tierpfleger sein…“- Ferienprogramm statt.\n\nDie Kids
  helfen beim Versorgen der Tiere: Füttern\, Putzen\, Führen und was sons
 t noch dazu gehört. Die Teilnahme kostet 22 Euro/Kind/Tag. Es sind einzel
 ne oder mehrere Tage buchbar.\n\nEine Anmeldung ist unbedingt erforderlich
 : Tel. 04329/913426 oder per Email an klingel@arche-warder.de
ATTACH;FMTTYPE=image/jpeg:https://stadtmarketing-nortorf.de/wp-content/upl
 oads/2025/02/va-arche-warder.jpg
CATEGORIES:Sonstiges
LOCATION:Tierpark Arche Warder\, Langwedeler Weg 11\, Warder\, Schleswig-Ho
 lstein\, 24646\, Deutschland
X-APPLE-STRUCTURED-LOCATION;VALUE=URI;X-ADDRESS=Langwedeler Weg 11\, Warder
 \, Schleswig-Holstein\, 24646\, Deutschland;X-APPLE-RADIUS=100;X-TITLE=Tie
 rpark Arche Warder:geo:0,0
END:VEVENT
BEGIN:VTIMEZONE
TZID:Europe/Berlin
X-LIC-LOCATION:Europe/Berlin
BEGIN:DAYLIGHT
DTSTART:20260329T030000
TZOFFSETFROM:+0100
TZOFFSETTO:+0200
TZNAME:CEST
END:DAYLIGHT
END:VTIMEZONE
END:VCALENDAR