BEGIN:VCALENDAR
VERSION:2.0
PRODID:-//wp-events-plugin.com//7.2.3.1//EN
TZID:Europe/Berlin
X-WR-TIMEZONE:Europe/Berlin
BEGIN:VEVENT
UID:464@stadtmarketing-nortorf.de
DTSTART;TZID=Europe/Berlin:20231003T183000
DTEND;TZID=Europe/Berlin:20231003T200000
DTSTAMP:20221005T074745Z
URL:https://stadtmarketing-nortorf.de/veranstaltungen/russisch-und-ukraini
 sch-singen-2023-10-03/
SUMMARY:russisch und ukrainisch singen
DESCRIPTION:Bisher besteht unsere kleine Gruppe aus Menschen\, die schon se
 it vielen Jahren in Nortorf und Umgebung leben. Wir freuen uns auf neuen B
 esuch!\n\nBitte vorher einmal per Telefon oder WhatsApp bei Viktor Klamm m
 elden:\n017661468994
ATTACH;FMTTYPE=image/jpeg:https://stadtmarketing-nortorf.de/wp-content/upl
 oads/2022/09/va-alte-muehle-russisch-singen.jpg
CATEGORIES:Bürgerangebote &amp; Soziales
LOCATION:Alte Mühle Nortorf\, Hohenwestedter Straße 6\, Nortorf\, 24589 \
 , Deutschland
GEO:54.167322;9.851431
X-APPLE-STRUCTURED-LOCATION;VALUE=URI;X-ADDRESS=Hohenwestedter Straße 6\, 
 Nortorf\, 24589 \, Deutschland;X-APPLE-RADIUS=100;X-TITLE=Alte Mühle Nort
 orf:geo:54.167322,9.851431
END:VEVENT
BEGIN:VTIMEZONE
TZID:Europe/Berlin
X-LIC-LOCATION:Europe/Berlin
BEGIN:DAYLIGHT
DTSTART:20230326T030000
TZOFFSETFROM:+0100
TZOFFSETTO:+0200
TZNAME:CEST
END:DAYLIGHT
END:VTIMEZONE
END:VCALENDAR