BEGIN:VCALENDAR
VERSION:2.0
PRODID:-//wp-events-plugin.com//7.2.3.1//EN
TZID:Europe/Berlin
X-WR-TIMEZONE:Europe/Berlin
BEGIN:VEVENT
UID:2434@stadtmarketing-nortorf.de
DTSTART;TZID=Europe/Berlin:20260509T100000
DTEND;TZID=Europe/Berlin:20260509T170000
DTSTAMP:20260219T121812Z
URL:https://stadtmarketing-nortorf.de/veranstaltungen/schafschur-2/
SUMMARY:Schafschur
DESCRIPTION:[caption id="attachment_13773" align="alignleft" width="300"] A
 RCHE WARDER\, Zentrum fuer alte Nutztierrassen\, Warder\, 30.05.2004: Scha
 fschur am Pfingssonntag im Tierpark. Schafscherer Clement befreit die Tier
 e rechtzeitig vor dem Sommer von ihrer Wolle.Arche Warder - Zentrum fuer g
 efaehrdete Nutztierrassen.Abdruck honorarfrei nur im redaktionellen Kontex
 t und bei Nennung von 'Arche Warder' und mit Urhebervermerk und Beleg.phot
 o &amp\; copyright: Sabine VielmoLindenallee 42\, 20259 Hamburg\, Germanyp
 hone: +49-(0)40-43.53.27\, fax: +49-(0)40-43.53.30\, email: sabine@vielmo.
 comFoto &amp\; copyright: Sabine Vielmo | Lindenallee 42 | 20259 Hamburg |
  Tel: 040-435327 / Fax: 040-435330 | email: sabine@vielmo.com[/caption]\n\
 nBei der alljährlichen Schafschur in der Arche Warder am Sonnabend\, 09. 
 Mai 2026\, können Groß und Klein miterleben\, wie rund 40 Schafe geschor
 en werden.\n\nDie große Vielfalt der Schafsrassen wird für die Besucher 
 der Arche Warder\, dem größten Zentrum für seltene und vom Aussterben b
 edrohte Nutztierrassen\, beim Schauscheren hautnah erlebbar gemacht. Schwa
 rze\, weiße oder bronzefarbene Skudden\, Ungarische Zackelschafe mit ihre
 n bizarr geformten Hörnern oder die Rauwolligen Pommernschafe – Tiere a
 us 17 verschiedenen\, alten und gefährdeten Schafsrassen erhalten ihre So
 mmerfrisur.\n\nWährend der Schafschur können Eltern und Kinder ab 11.00 
 Uhr im Schauhaus im Eingangsbereich der Schererin bei der Arbeit über die
  Schulter schauen\, Naturwolle mit allen Sinnen erleben und zusehen\, wie 
 der erste Schritt zum Wollfaden erfolgt.\n\nFür alle die\, die an der bes
 onderen Wolle dieser seltenen Schafsrassen Interesse haben\, gibt es die M
 öglichkeit\, Schafsvliese direkt vor Ort zu erwerben\, je nach Rasse für
  10 Euro pro Vlies. Einfach das Schaf\, das der Wunsch-Wolllieferant sein 
 soll\, aussuchen und das frisch geschorenen Vlies aus den Händen der Sche
 rerin in Empfang nehmen.
ATTACH;FMTTYPE=image/jpeg:https://stadtmarketing-nortorf.de/wp-content/upl
 oads/2025/02/va-arche-warder.jpg
CATEGORIES:Exkursionen &amp; Wanderungen,Kinder
LOCATION:Tierpark Arche Warder\, Langwedeler Weg 11\, Warder\, Schleswig-Ho
 lstein\, 24646\, Deutschland
X-APPLE-STRUCTURED-LOCATION;VALUE=URI;X-ADDRESS=Langwedeler Weg 11\, Warder
 \, Schleswig-Holstein\, 24646\, Deutschland;X-APPLE-RADIUS=100;X-TITLE=Tie
 rpark Arche Warder:geo:0,0
END:VEVENT
BEGIN:VTIMEZONE
TZID:Europe/Berlin
X-LIC-LOCATION:Europe/Berlin
BEGIN:DAYLIGHT
DTSTART:20260329T030000
TZOFFSETFROM:+0100
TZOFFSETTO:+0200
TZNAME:CEST
END:DAYLIGHT
END:VTIMEZONE
END:VCALENDAR