BEGIN:VCALENDAR
VERSION:2.0
PRODID:-//wp-events-plugin.com//7.2.3.1//EN
TZID:Europe/Berlin
X-WR-TIMEZONE:Europe/Berlin
BEGIN:VEVENT
UID:2413@stadtmarketing-nortorf.de
DTSTART;TZID=Europe/Berlin:20260321T150000
DTEND;TZID=Europe/Berlin:20260321T180000
DTSTAMP:20260210T094902Z
URL:https://stadtmarketing-nortorf.de/veranstaltungen/storchenboerse-alles
 -rund-ums-kind-2/
SUMMARY:Storchenbörse - Alles rund ums Kind
DESCRIPTION:Wir starten in die Planung der nächsten Storchenbörse\, die a
 m 21. März ab 15 Uhr in der Sporthalle in Langwedel stattfinden wird.\n\n
 Helfer gesucht – jetzt schon Helfernummern sichern! Aktuell vergeben wir
  bereits Helfernummern.\n\nVoraussetzung ist die Mithilfe vor\, während u
 nd/oder nach der Börse.\nBei Interesse meldet euch gern per E-Mail bei un
 s:\nboerse-langwedel@web.de\n\nDie allgemeine Anmeldung zur Storchenbörse
  findet ab dem 14. Februar bis zum 21. Februar statt.\n\nDiejenigen\, die 
 nicht helfen können\, können sich natürlich auch im oben genannten Zeit
 raum anmelden. Die Verkaufsnummern werden wir dann per Losverfahren vergeb
 en.\n\nEine Rückmeldung erfolgt bis 28. Februar per Mail.\n\nInformiert e
 uch auch gern über Facebook u/o Instagram. Auch bei WhatsApp informieren 
 wir euch mit allen aktuellen Anliegen\, Terminen und weiteren Informatione
 n. https://whatsapp.com/channel/0029VbAJfYHK0IBlp1Exzd1Q\n\nWir freuen uns
  auf EUCH!
CATEGORIES:Kinder,Kleiderbörsen,Shopping
LOCATION:Sporthalle Langwedel\, Am Sportplatz 1b\, Langwedel\, 24631\, Deut
 schland
X-APPLE-STRUCTURED-LOCATION;VALUE=URI;X-ADDRESS=Am Sportplatz 1b\, Langwede
 l\, 24631\, Deutschland;X-APPLE-RADIUS=100;X-TITLE=Sporthalle Langwedel:ge
 o:0,0
END:VEVENT
BEGIN:VTIMEZONE
TZID:Europe/Berlin
X-LIC-LOCATION:Europe/Berlin
BEGIN:STANDARD
DTSTART:20251026T020000
TZOFFSETFROM:+0200
TZOFFSETTO:+0100
TZNAME:CET
END:STANDARD
END:VTIMEZONE
END:VCALENDAR