BEGIN:VCALENDAR
VERSION:2.0
PRODID:-//wp-events-plugin.com//7.2.3.1//EN
TZID:Europe/Berlin
X-WR-TIMEZONE:Europe/Berlin
BEGIN:VEVENT
UID:2560@stadtmarketing-nortorf.de
DTSTART;TZID=Europe/Berlin:20260606T110000
DTEND;TZID=Europe/Berlin:20260606T170000
DTSTAMP:20260422T115739Z
URL:https://stadtmarketing-nortorf.de/veranstaltungen/tag-der-offenen-tuer
 -firmenjubilaeum/
SUMMARY:Tag der offenen Tür / Firmenjubiläum
DESCRIPTION:
ATTACH;FMTTYPE=image/jpeg:https://stadtmarketing-nortorf.de/wp-content/upl
 oads/2023/06/rohwer-stahlbau.png
CATEGORIES:Ausstellungen,Kinder,Party
LOCATION:Rohwer Stahl &amp\; Metallbau GmbH\, Gnutzer Straße 4\, Nortorf\,
  Deutschland
X-APPLE-STRUCTURED-LOCATION;VALUE=URI;X-ADDRESS=Gnutzer Straße 4\, Nortorf
 \, Deutschland;X-APPLE-RADIUS=100;X-TITLE=Rohwer Stahl & Metallbau GmbH:ge
 o:0,0
END:VEVENT
BEGIN:VTIMEZONE
TZID:Europe/Berlin
X-LIC-LOCATION:Europe/Berlin
BEGIN:DAYLIGHT
DTSTART:20260329T030000
TZOFFSETFROM:+0100
TZOFFSETTO:+0200
TZNAME:CEST
END:DAYLIGHT
END:VTIMEZONE
END:VCALENDAR