BEGIN:VCALENDAR
VERSION:2.0
PRODID:-//wp-events-plugin.com//7.2.3.1//EN
TZID:Europe/Berlin
X-WR-TIMEZONE:Europe/Berlin
BEGIN:VEVENT
UID:2474@stadtmarketing-nortorf.de
DTSTART;TZID=Europe/Berlin:20260322T110000
DTEND;TZID=Europe/Berlin:20260322T153000
DTSTAMP:20260227T094616Z
URL:https://stadtmarketing-nortorf.de/veranstaltungen/tag-der-offenen-tuer
 -kita-nortorf-3/
SUMMARY:Tag der offenen Tür KiTa Nortorf
DESCRIPTION:Wir freuen uns auf Ihren Besuch zum Tag der offenen Tür im Fam
 ilienzentrum KiTa Nortorf\n\nWir laden herzlich ein zum…\n…Klönen bei
  Kaffee &amp\; Kuchen und gegrillten Würstchen sowie anderen Leckereien\n
 …Singen\, Spielen und Basteln\n…Stockbrot backen über offenem Feuer i
 n unserer Kohte\n…Stöbern frühlingshafter Basteleien beim kleinen Basa
 r\n…Entdecken von Schätzen in unserer Kleiderbörse\n…Kinderflohmarkt
 \n\nWir freuen uns auf Ihren Besuch!
CATEGORIES:Festivals &amp; Feste,Kinder,Märkte
LOCATION:KiTa Nortorf\, Kieler Straße 29a\, Nortorf\, Deutschland
X-APPLE-STRUCTURED-LOCATION;VALUE=URI;X-ADDRESS=Kieler Straße 29a\, Nortor
 f\, Deutschland;X-APPLE-RADIUS=100;X-TITLE=KiTa Nortorf:geo:0,0
END:VEVENT
BEGIN:VTIMEZONE
TZID:Europe/Berlin
X-LIC-LOCATION:Europe/Berlin
BEGIN:STANDARD
DTSTART:20251026T020000
TZOFFSETFROM:+0200
TZOFFSETTO:+0100
TZNAME:CET
END:STANDARD
END:VTIMEZONE
END:VCALENDAR