BEGIN:VCALENDAR
VERSION:2.0
PRODID:-//wp-events-plugin.com//7.2.3.1//EN
TZID:Europe/Berlin
X-WR-TIMEZONE:Europe/Berlin
BEGIN:VEVENT
UID:1877@stadtmarketing-nortorf.de
DTSTART;TZID=Europe/Berlin:20241127T093000
DTEND;TZID=Europe/Berlin:20241127T180000
DTSTAMP:20241112T121322Z
URL:https://stadtmarketing-nortorf.de/veranstaltungen/tagesfahrt-zum-weihn
 achtsmarkt-nach-tondern/
SUMMARY:Tagesfahrt zum Weihnachtsmarkt nach Tondern
DESCRIPTION:Einladung zur Tagesfahrt nach Tondern / Dänemark\nmit traditio
 nellen Jule-Buffet und Weihnachtsmarkt\nam Mittwoch\, 27.11.2024\n\nProgra
 mm:\n09:30 Uhr Abfahrt Nortorf/ZOB\n11:30 Uhr Mittagessen mit traditionell
 em „Jule-Buffet“\, einem schmackhaften\nskandinavischen Weihnachtsbuff
 et\nAnschließend Weiterfahrt nach Tondern\n\nDie romantische Altstadt mit
  ihren historischen Häusern ist festlich geschmückt\nund lockt mit attra
 ktiven Cafés und Weihnachtsausstellungen in den Geschäften.\nLohnenswert
  ist auch ein Besuch der berühmten „Gamle Apotek“ mit dem\neinzigen o
 ffiziellen Weihnachtspostamt Dänemarks\, wo der Weihnachtsmann am\nNachmi
 ttag auf uns wartet. Vom Keller bis zum Dachboden können wir in der\nAlte
 n Apotheke zahlreiche Geschenkideen entdecken.\n16:00 Uhr Rückfahrt\nca. 
 18:00 Uhr: Ankunft in Nortorf\n\nAnmeldung:\nAb sofort in der DRK-Geschäf
 tsstelle\n(persönlich\, per Tel.: 04392/3534 oder Mail: s.pfeffer@drk-nor
 torf.de)\nKosten: für Mitglieder des DRK-Ortsvereins Nortorf e.V.: 75\,00
  € und 80\,00 € für Nicht-Mitglieder\n\nDer Ausflug ist barrierefrei\
 , Rollatoren und Rollstühle können im Bus mitgenommen werden.\n\nEin gü
 ltiger Personalausweis ist unbedingt erforderlich!\n\nWir freuen uns auf e
 inen schönen Tag mit Ihnen!
CATEGORIES:Exkursionen &amp; Wanderungen
LOCATION:Tondern\, Niedernstraße 6\, Nortorf\, 24589 \, Deutschland
X-APPLE-STRUCTURED-LOCATION;VALUE=URI;X-ADDRESS=Niedernstraße 6\, Nortorf\
 , 24589 \, Deutschland;X-APPLE-RADIUS=100;X-TITLE=Tondern:geo:0,0
END:VEVENT
BEGIN:VTIMEZONE
TZID:Europe/Berlin
X-LIC-LOCATION:Europe/Berlin
BEGIN:STANDARD
DTSTART:20241027T020000
TZOFFSETFROM:+0200
TZOFFSETTO:+0100
TZNAME:CET
END:STANDARD
END:VTIMEZONE
END:VCALENDAR