BEGIN:VCALENDAR
VERSION:2.0
PRODID:-//wp-events-plugin.com//7.2.3.1//EN
TZID:Europe/Berlin
X-WR-TIMEZONE:Europe/Berlin
BEGIN:VEVENT
UID:2446@stadtmarketing-nortorf.de
DTSTART;TZID=Europe/Berlin:20260430T200000
DTEND;TZID=Europe/Berlin:20260430T235900
DTSTAMP:20260224T105730Z
URL:https://stadtmarketing-nortorf.de/veranstaltungen/tanz-in-den-mai-2/
SUMMARY:Tanz in den Mai
DESCRIPTION:\n\nWie bereits im letzten Jahr wollen wir gemeinsam in den Mai
  tanzen! Musik von Abba bis Zappa\, wir bringen die Tanzfläche zum Beben!
  Feiert mit!\n\nEintritt: 10.- €\, Anmeldung erforderlich bis 29. April\
 n\nAnmeldung unter: kultur-am-brahmsee@langwedel-sh.de oder telefonisch un
 ter 0175-4150564 (bitte erst ab 17 Uhr anrufen).
ATTACH;FMTTYPE=image/jpeg:https://stadtmarketing-nortorf.de/wp-content/upl
 oads/2023/08/va-kultur-brahmsee.jpg
CATEGORIES:Party
LOCATION:Sportheim Langwedel\, Am Sportplatz 1b\, Langwedel\, Schleswig-Hol
 stein\, 24631\, Kreis Rendsburg-Eckernförde\, Deutschland
X-APPLE-STRUCTURED-LOCATION;VALUE=URI;X-ADDRESS=Am Sportplatz 1b\, Langwede
 l\, Schleswig-Holstein\, 24631\, Kreis Rendsburg-Eckernförde\, Deutschlan
 d;X-APPLE-RADIUS=100;X-TITLE=Sportheim Langwedel:geo:0,0
END:VEVENT
BEGIN:VTIMEZONE
TZID:Europe/Berlin
X-LIC-LOCATION:Europe/Berlin
BEGIN:DAYLIGHT
DTSTART:20260329T030000
TZOFFSETFROM:+0100
TZOFFSETTO:+0200
TZNAME:CEST
END:DAYLIGHT
END:VTIMEZONE
END:VCALENDAR