BEGIN:VCALENDAR
VERSION:2.0
PRODID:-//wp-events-plugin.com//7.2.3.1//EN
TZID:Europe/Berlin
X-WR-TIMEZONE:Europe/Berlin
BEGIN:VEVENT
UID:2493@stadtmarketing-nortorf.de
DTSTART;TZID=Europe/Berlin:20260518T183000
DTEND;TZID=Europe/Berlin:20260518T200000
DTSTAMP:20260417T103637Z
URL:https://stadtmarketing-nortorf.de/veranstaltungen/vortrag-meine-pilger
 reise-in-norwegen/
SUMMARY:Vortrag: "Meine Pilgerreise in Norwegen"
DESCRIPTION:Karin Kreutz aus Aukrug wird über ihre 18-tägige Pilgerreise 
 in der Gruppe von Dovre über das Dovrefjell nach Trondheim berichten.\nSi
 e zeigt Bilder vom Weg\, den Kirchen\, der Natur und den Unterkünften und
  sie wird viel über ihre persönlichen Erfahrungen berichten.
ATTACH;FMTTYPE=image/jpeg:https://stadtmarketing-nortorf.de/wp-content/upl
 oads/2023/01/va-kirchengemeinde.jpg
CATEGORIES:Vorträge &amp; Diskussionsrunden
LOCATION:Markushaus\, Niedernstraße 2\, Nortorf\, 24589\, Deutschland
X-APPLE-STRUCTURED-LOCATION;VALUE=URI;X-ADDRESS=Niedernstraße 2\, Nortorf\
 , 24589\, Deutschland;X-APPLE-RADIUS=100;X-TITLE=Markushaus:geo:0,0
END:VEVENT
BEGIN:VTIMEZONE
TZID:Europe/Berlin
X-LIC-LOCATION:Europe/Berlin
BEGIN:DAYLIGHT
DTSTART:20260329T030000
TZOFFSETFROM:+0100
TZOFFSETTO:+0200
TZNAME:CEST
END:DAYLIGHT
END:VTIMEZONE
END:VCALENDAR