BEGIN:VCALENDAR
VERSION:2.0
PRODID:-//wp-events-plugin.com//7.2.3.1//EN
TZID:Europe/Berlin
X-WR-TIMEZONE:Europe/Berlin
BEGIN:VEVENT
UID:2422@stadtmarketing-nortorf.de
DTSTART;TZID=Europe/Berlin:20260307T170000
DTEND;TZID=Europe/Berlin:20260307T190000
DTSTAMP:20260213T120443Z
URL:https://stadtmarketing-nortorf.de/veranstaltungen/vortrag-mit-gegenwin
 d-um-die-welt-eine-zehnjaehrige-weltumseglung/
SUMMARY:Vortrag: Mit "Gegenwind" um die Welt - eine zehnjährige Weltumsegl
 ung
DESCRIPTION:Asha Reich und Helge Aßmann teilen in ihrem Vortrag lebendig u
 nd mitreißend die aufregendsten Momente ihrer einzigartigen Reise!\n\nEin
 e Reise voller Abenteuer und persönlicher Herausforderungen! Bereit\, zum
  Lauschen und Staunen?\n\nHier gelangen Sie direkt zur Seite der vhs\, um 
 sich anzumelden: VHS Nortorf\n\n&nbsp\;\n\n&nbsp\;\n\n&nbsp\;
ATTACH;FMTTYPE=image/jpeg:https://stadtmarketing-nortorf.de/wp-content/upl
 oads/2023/06/vhs.png
CATEGORIES:Bildung,Vorträge &amp; Diskussionsrunden
LOCATION:Haus der Vereine und Verbände\, Schülper Weg 3\, Nortorf\, 24589
 \, Deutschland
GEO:54.164584;9.857233
X-APPLE-STRUCTURED-LOCATION;VALUE=URI;X-ADDRESS=Schülper Weg 3\, Nortorf\,
  24589\, Deutschland;X-APPLE-RADIUS=100;X-TITLE=Haus der Vereine und Verb
 ände:geo:54.164584,9.857233
END:VEVENT
BEGIN:VTIMEZONE
TZID:Europe/Berlin
X-LIC-LOCATION:Europe/Berlin
BEGIN:STANDARD
DTSTART:20251026T020000
TZOFFSETFROM:+0200
TZOFFSETTO:+0100
TZNAME:CET
END:STANDARD
END:VTIMEZONE
END:VCALENDAR