BEGIN:VCALENDAR
VERSION:2.0
PRODID:-//wp-events-plugin.com//7.2.3.1//EN
TZID:Europe/Berlin
X-WR-TIMEZONE:Europe/Berlin
BEGIN:VEVENT
UID:1600@stadtmarketing-nortorf.de
DTSTART;TZID=Europe/Berlin:20240326T180000
DTEND;TZID=Europe/Berlin:20240326T180000
DTSTAMP:20240219T115850Z
URL:https://stadtmarketing-nortorf.de/veranstaltungen/was-piept-denn-da-vo
 gelstimmenwanderungen-im-bellerbektal-2024-03-26/
SUMMARY:„Was piept denn da?“ Vogelstimmenwanderungen im Bellerbektal
DESCRIPTION:„Was piept denn da?“\nVogelstimmenwanderungen im Bellerbekt
 al\nSeit vielen Jahren lauscht Edgar Mißbach den Vogelstimmen im Bellerbe
 ktal. Gerne erklärt er Ihnen und euch die Geheimnisse der trällernden un
 d zwitschernden Vogelwelt.\n► Dienstags 18 Uhr\, 26. März\, 2.\, 16. un
 d 23. April\, 7.\, 14. und 21. Mai 2024\, Treffpunkt: Wendehammer Matthias
 -Claudius-Str. 
ATTACH;FMTTYPE=image/jpeg:https://stadtmarketing-nortorf.de/wp-content/upl
 oads/2024/02/va-nabu.jpg
CATEGORIES:Exkursionen &amp; Wanderungen
LOCATION:Wendehammer Matthias-Claudius-Straße\, Matthias-Claudius-Straße\
 , Nortorf\, 24589\, Deutschland
X-APPLE-STRUCTURED-LOCATION;VALUE=URI;X-ADDRESS=Matthias-Claudius-Straße\,
  Nortorf\, 24589\, Deutschland;X-APPLE-RADIUS=100;X-TITLE=Wendehammer Matt
 hias-Claudius-Straße:geo:0,0
END:VEVENT
BEGIN:VTIMEZONE
TZID:Europe/Berlin
X-LIC-LOCATION:Europe/Berlin
BEGIN:STANDARD
DTSTART:20231029T020000
TZOFFSETFROM:+0200
TZOFFSETTO:+0100
TZNAME:CET
END:STANDARD
END:VTIMEZONE
END:VCALENDAR