BEGIN:VCALENDAR
VERSION:2.0
PRODID:-//wp-events-plugin.com//7.2.3.1//EN
TZID:Europe/Berlin
X-WR-TIMEZONE:Europe/Berlin
BEGIN:VEVENT
UID:2412@stadtmarketing-nortorf.de
DTSTART;TZID=Europe/Berlin:20271203T190000
DTEND;TZID=Europe/Berlin:20271203T210000
DTSTAMP:20260205T111656Z
URL:https://stadtmarketing-nortorf.de/veranstaltungen/weihnachten-mit-anni
 e-heger-und-gaesten-bethlehem/
SUMMARY:Weihnachten mit Annie Heger und Gästen: Bethlehem
DESCRIPTION:SAVE THE DATE!\n\nInfos und Vorverkauf ab Herbst 2027. Abonnier
 en Sie unseren Newsletter unter Kontakt – Kramer Scheune
ATTACH;FMTTYPE=image/jpeg:https://stadtmarketing-nortorf.de/wp-content/upl
 oads/2022/09/va-kramerscheune.jpg
CATEGORIES:Konzerte
LOCATION:Deutsches Schallplattenmuseum Nortorf\, Niedernstraße 7b\, Nortor
 f\, 24589\, Deutschland
GEO:54.170465;9.852676
X-APPLE-STRUCTURED-LOCATION;VALUE=URI;X-ADDRESS=Niedernstraße 7b\, Nortorf
 \, 24589\, Deutschland;X-APPLE-RADIUS=100;X-TITLE=Deutsches Schallplattenm
 useum Nortorf:geo:54.170465,9.852676
END:VEVENT
BEGIN:VTIMEZONE
TZID:Europe/Berlin
X-LIC-LOCATION:Europe/Berlin
BEGIN:STANDARD
DTSTART:20271031T020000
TZOFFSETFROM:+0200
TZOFFSETTO:+0100
TZNAME:CET
END:STANDARD
END:VTIMEZONE
END:VCALENDAR