BEGIN:VCALENDAR
VERSION:2.0
PRODID:-//wp-events-plugin.com//7.2.3.1//EN
TZID:Europe/Berlin
X-WR-TIMEZONE:Europe/Berlin
BEGIN:VEVENT
UID:2183@stadtmarketing-nortorf.de
DTSTART;TZID=Europe/Berlin:20260415T190000
DTEND;TZID=Europe/Berlin:20260415T220000
DTSTAMP:20251007T110227Z
URL:https://stadtmarketing-nortorf.de/veranstaltungen/werner-mommsen-praes
 entiert-momsen-tiere-sensationen-zusatzshow/
SUMMARY:Werner Mommsen präsentiert: Momsen\, Tiere\, Sensationen\, Zusatzs
 how
DESCRIPTION:Werner Momsen präsentiert:\n\nMomsen\, Tiere\, Sensationen\n4\
 ,5 Milliarden Jahre Evolution und immer noch nicht fertig.\nSchaumstoff\, 
 Styropor\, Farbe und der „schwarze Mann im Hintergrund“ – Das alles 
 ist Werner Momsen. Die kultige Klappmaulpuppe mit dem frechen Mundwerk kom
 mt zum zweiten Mal in die Kramer-Scheune nach Nortorf. Mitbringen wird Mom
 sen sein neues Programm „Momsen\, Tiere\, Sensationen“. Viele tiefgrü
 ndige Gedanken hat sich Werner Momsen wieder einmal gemacht. Herausgekomme
 n ist eine Hommage an die Natur und eine Anregung\, einmal im Insektenhote
 l einzuchecken und etwas genauer hinzuschauen. Wenn Küchenschaben ohne Ko
 pf hinter Fußleisten verschwinden\, Eichhörnchen sich bei Regen unterm S
 chwanz verstecken und Maikäfer stundenlang Sex haben. Entweder hatte der 
 Schöpfer zwischendurch einen im Tee oder eine gehörige Portion Humor!\nS
 echs Tage brauchte Gott angeblich für die Schöpfung der Welt und für al
 les\, was darauf so kreucht und fleucht. Ein irres Pensum\, um alles im Vo
 rwege zu bedenken. So ist ihm wohl nach und nach klargeworden\, dass das z
 u ambitioniert war. Deshalb probiert Gott seit 4\,5 Milliarden Jahren imme
 r wieder rum. Erst hat ein Tier Flügel\, dann nimmt Gott sie ihm wieder a
 b. Landtiere fallen nach tausenden von Jahren plötzlich ins Wasser\, wäh
 rend Fische an Land krabbeln. Was ist sein Plan?\n\nEs ist natürlich auch
  nicht einfach\, denn es müssen viele Anforderungen unter einen Hut gebra
 cht werden: Gehen\, Schlafen\, Fressen\, Fortpflanzen. Das muss ja alles m
 it einem Körper möglich sein. Stachel helfen dem Igel zwar bei der Verte
 idigung\, sind bei der Fortpflanzung aber leider unpraktisch. Wahrscheinli
 ch sind auch die Mittel begrenzt. So hat es für einige Schnecken noch zum
  Haus gereicht\, für andere dagegen nicht mehr.\nEs wirkt ein bisschen so
 \, als säße Gott an seiner Playstation und probiert aus\, was das nächs
 te Level so zu bieten hat. Fortsetzung folgt...\n\nTickets für 26\,50 EU 
 unter www.Kramer-Scheune.de
ATTACH;FMTTYPE=image/jpeg:https://stadtmarketing-nortorf.de/wp-content/upl
 oads/2022/09/va-kramerscheune.jpg
CATEGORIES:Comedy
LOCATION:Kramer-Scheune\, Heinkenborstelerweg 8\, Nortorf\, 24589\, Deutsch
 land
GEO:54.164672;9.846506
X-APPLE-STRUCTURED-LOCATION;VALUE=URI;X-ADDRESS=Heinkenborstelerweg 8\, Nor
 torf\, 24589\, Deutschland;X-APPLE-RADIUS=100;X-TITLE=Kramer-Scheune:geo:5
 4.164672,9.846506
END:VEVENT
BEGIN:VTIMEZONE
TZID:Europe/Berlin
X-LIC-LOCATION:Europe/Berlin
BEGIN:DAYLIGHT
DTSTART:20260329T030000
TZOFFSETFROM:+0100
TZOFFSETTO:+0200
TZNAME:CEST
END:DAYLIGHT
END:VTIMEZONE
END:VCALENDAR