BEGIN:VCALENDAR
VERSION:2.0
PRODID:-//wp-events-plugin.com//7.2.3.1//EN
TZID:Europe/Berlin
X-WR-TIMEZONE:Europe/Berlin
BEGIN:VEVENT
UID:1545@stadtmarketing-nortorf.de
DTSTART;TZID=Europe/Berlin:20251020T193000
DTEND;TZID=Europe/Berlin:20251020T213000
DTSTAMP:20240115T100429Z
URL:https://stadtmarketing-nortorf.de/veranstaltungen/zusammentreffen-der-
 guttempler-gemeinschaft-2025-10-20/
SUMMARY:Zusammentreffen der Guttempler-Gemeinschaft
DESCRIPTION:Zusammentreffen der Guttempler-Gemeinschaft „Frisch auf Norto
 rf“\, unter Leitung von Herrn Hans-Jürgen Kain\, Tel. 04871708758\, Mob
 il: 0172 4084922\, E-Mail: hans-juergen.kain@guttempler-sh.de. Gäste sind
  willkommen.
ATTACH;FMTTYPE=image/jpeg:https://stadtmarketing-nortorf.de/wp-content/upl
 oads/2024/01/va-guttempler.jpg
CATEGORIES:Bürgerangebote &amp; Soziales
LOCATION:Markushaus\, Niedernstraße 2\, Nortorf\, 24589\, Deutschland
GEO:54.169716;9.855515
X-APPLE-STRUCTURED-LOCATION;VALUE=URI;X-ADDRESS=Niedernstraße 2\, Nortorf\
 , 24589\, Deutschland;X-APPLE-RADIUS=100;X-TITLE=Markushaus:geo:54.169716,
 9.855515
END:VEVENT
BEGIN:VTIMEZONE
TZID:Europe/Berlin
X-LIC-LOCATION:Europe/Berlin
BEGIN:DAYLIGHT
DTSTART:20250330T030000
TZOFFSETFROM:+0100
TZOFFSETTO:+0200
TZNAME:CEST
END:DAYLIGHT
END:VTIMEZONE
END:VCALENDAR